BEGIN:VCALENDAR
VERSION:2.0
PRODID:-//ChamberMaster//Event Calendar 2.0//EN
METHOD:PUBLISH
X-PUBLISHED-TTL:P3D
REFRESH-INTERVAL:P3D
CALSCALE:GREGORIAN
BEGIN:VEVENT
DTSTART:20170608T144500Z
DTEND:20170608T170000Z
X-MICROSOFT-CDO-ALLDAYEVENT:FALSE
SUMMARY:June 8\, 2017 - CyberSecurity - Everything You Need to Know to Keep Your Company Safe Workshop
DESCRIPTION:Cyber Criminals and Ransomware have stolen over $75 Billion from small businesses worldwide in 2016. Join us and discover some amazingly simple strategies you can use to protect your business and keep you from becoming a victim in 2017.\n\n\n\nWe live in a war zone and if you are concerned about the security of your computer network\, lost or stolen devices\, or the privacy of your confidential information\, this is a must attend workshop that will show you how to avoid the common mistakes that many small business owners make every day\, and the 7 uncomplicated strategies you can use to keep your company safe.\n\n\n\nThis workshop is facilitated by Bob Milliken of Cascadia Systems Group.
X-ALT-DESC;FMTTYPE=text/html:Cyber Criminals and Ransomware have stolen over $75 Billion from small businesses worldwide in 2016. Join us and discover some amazingly simple strategies you can use to protect your business and keep you from becoming a victim in 2017.<br />\n<br />\nWe live in a war zone and if you are concerned about the security of your computer network\, lost or stolen devices\, or the privacy of your confidential information\, this is a must attend workshop that will show you how to avoid the common mistakes that many small business owners make every day\, and the 7 uncomplicated strategies you can use to keep your company safe.<br />\n<br />\n<b>This workshop is facilitated by Bob Milliken of Cascadia Systems Group.</b>
LOCATION:Surrey Board of Trade Conference Room 101-14439 104 Avenue\, Surrey
UID:e.749.5298
SEQUENCE:3
DTSTAMP:20260422T002351Z
URL:https://business.swrbot.com/events/details/june-8-2017-cybersecurity-everything-you-need-to-know-to-keep-your-company-safe-workshop-06-08-2017-5298
END:VEVENT

END:VCALENDAR
