BEGIN:VCALENDAR
VERSION:2.0
PRODID:-//ChamberMaster//Event Calendar 2.0//EN
METHOD:PUBLISH
X-PUBLISHED-TTL:P3D
REFRESH-INTERVAL:P3D
CALSCALE:GREGORIAN
BEGIN:VEVENT
DTSTART:20160609T144500Z
DTEND:20160609T170000Z
X-MICROSOFT-CDO-ALLDAYEVENT:FALSE
SUMMARY:June 9\, 2016 - Branding Business Workshop
DESCRIPTION:An effective Brand can lead to change. Change in not only how we see ourselves\, but how we are seen by others.\n\n\n\nA CONVERSATION ON BRANDING\n\n  What is branding?\n\n  We have a logo \,why should we change?\n\n  Brand Essence\, Brand Promise\, Brand Equity - what does it all mean?\n\n  Research\, Research\, Research\n\n\n\nThis workshop is facilitated by Chris Thornley\, President\, Thornley Creative Communications.\n\nSurrey cultural business owner\, arts advocate\, philanthropist and musician\,Chris Thornley is a graduate of both BCIT in Marketing and Advertising and Douglas College in Graphic Design. His firm has been responsible for the logos and branding of many corporate and not-for-profit organizations including: The City of Surrey\, Bard on the Beach\, The Surrey Board of Trade\, the Surrey Food Bank\, Sources\, Surrey Libraries and the Cloverdale Rodeo.
X-ALT-DESC;FMTTYPE=text/html:An effective Brand can lead to change. Change in not only how we see ourselves\, but how we are seen by others.<br />\n<br />\nA CONVERSATION ON BRANDING<br />\n&bull\; What is branding?<br />\n&bull\; We have a logo \,why should we change?<br />\n&bull\; Brand Essence\, Brand Promise\, Brand Equity - what does it all mean?<br />\n&bull\; Research\, Research\, Research<br />\n<br />\n<strong>This workshop is facilitated by Chris Thornley\, President\, Thornley Creative Communications.</strong><br />\nSurrey cultural business owner\, arts advocate\, philanthropist and musician\,Chris Thornley is a graduate of both BCIT in Marketing and Advertising and Douglas College in Graphic Design. His firm has been responsible for the logos and branding of many corporate and not-for-profit organizations including: The City of Surrey\, Bard on the Beach\, The Surrey Board of Trade\, the Surrey Food Bank\, Sources\, Surrey Libraries and the Cloverdale Rodeo.
LOCATION:Surrey Board of Trade Conference Room 101 - 14439 104 Avenue Surrey\, BC
UID:e.749.4942
SEQUENCE:3
DTSTAMP:20260424T111510Z
URL:https://business.swrbot.com/events/details/june-9-2016-branding-business-workshop-06-09-2016-4942
END:VEVENT

END:VCALENDAR
