BEGIN:VCALENDAR
VERSION:2.0
PRODID:-//ChamberMaster//Event Calendar 2.0//EN
METHOD:PUBLISH
X-PUBLISHED-TTL:P3D
REFRESH-INTERVAL:P3D
CALSCALE:GREGORIAN
BEGIN:VEVENT
DTSTART:20180216T040000Z
DTEND:20180216T060000Z
X-MICROSOFT-CDO-ALLDAYEVENT:FALSE
SUMMARY:KGB Jazz Nights
DESCRIPTION:It don't mean a thing all you gotta do   is come down to Surrey's new KGB jazz night Experience the different flavours of jazz. Inspired by the old jazz clubs of Harlem in 1920's and Berlin in 1960's where the best experimented moulding jazz in a new illumination. You never know who might just show up --- this isn't a night to miss! To start out these evenings\, we are proud to present Ptridactyl\, hailing from Salmon Arm and Vancouver. They are electrifying trio of voice\, violin\, and bass. They are the band that travels 465 km to perform for you. https://soundcloud.com/user-904100650/sets/live-recordings.\n\n\n\nWHEN: Every Thursday starting Feb 15\n\nTIME: Doors open 8 pm\n\nWHERE: In the Flamingo Lounge 10768 KGB Surrey
X-ALT-DESC;FMTTYPE=text/html:It don&rsquo\;t mean a thing all you gotta do &hellip\; is come down to Surrey&rsquo\;s new KGB jazz night Experience the different flavours of jazz. Inspired by the old jazz clubs of Harlem in 1920&rsquo\;s and Berlin in 1960&rsquo\;s where the best experimented moulding jazz in a new illumination. You never know who might just show up --- this isn&rsquo\;t a night to miss! To start out these evenings\, we are proud to present Ptridactyl\, hailing from Salmon Arm and Vancouver. They are electrifying trio of voice\, violin\, and bass. They are the band that travels 465 km to perform for you. https://soundcloud.com/user-904100650/sets/live-recordings.<br />\n<br />\nWHEN: Every Thursday starting Feb 15<br />\nTIME: Doors open 8 pm<br />\nWHERE: In the Flamingo Lounge 10768 KGB Surrey
LOCATION:WHERE: In the Flamingo Lounge 10768 KGB Surrey
UID:e.749.6733
SEQUENCE:3
DTSTAMP:20260421T141308Z
URL:https://business.swrbot.com/events/details/kgb-jazz-nights-02-15-2018-6733
END:VEVENT

END:VCALENDAR
