BEGIN:VCALENDAR
VERSION:2.0
PRODID:-//ChamberMaster//Event Calendar 2.0//EN
METHOD:PUBLISH
X-PUBLISHED-TTL:P3D
REFRESH-INTERVAL:P3D
CALSCALE:GREGORIAN
BEGIN:VEVENT
DTSTART:20141016T143000Z
DTEND:20141016T173000Z
X-MICROSOFT-CDO-ALLDAYEVENT:FALSE
SUMMARY:KPMG Manufacturing Insights:
DESCRIPTION:Please join KPMG LLP in partnership with the Canadian Manufacturers & Exporters\, British Columbia\, for our first installment of Manufacturing Insights\, a series focused on strategic and business issues faced by manufacturing leaders and the upper management team. With literally hundreds of capital projects in all stages of the project lifecycle in British Columbia alone\, there are countless opportunities for local manufacturers. The impact will be diversification and growth of many companies who seize the opportunity. As a business owner/manager you need to ask yourself and your executive \n\n	is your organization poised and prepared for growth\n	What is your strategic plan in the deployment of your human resources/talent management\n	Do you have a plan to ensure the right people are in the right roles to support your growth objectives\n	Our expert panel will discuss key steps companies need to take to align your workforce with business priorities and capitalize on the opportunities.\n	Additionally\, to ensure you have a well-defined HR strategy/talent management plan to ensure seamless transition and success for the: large procurement\, campaigns anticipated to roll out in shipbuilding\, LNG\, natural resources\, and other sectors.\n\nDon't miss this opportunity to bring your questions and issues to our first-rate panel of HR professionals.\n\n\n\nSpeakers:\n\nMary Callaghan\, KPMG Advisory Partner\, People & Change Management Other expert panelists to be confirmed.
X-ALT-DESC;FMTTYPE=text/html:Please join KPMG LLP in partnership with the Canadian Manufacturers &amp\; Exporters\, British Columbia\, for our first installment of Manufacturing Insights\, a series focused on strategic and business issues faced by manufacturing leaders and the upper management team. With literally hundreds of capital projects in all stages of the project lifecycle in British Columbia alone\, there are countless opportunities for local manufacturers. The impact will be diversification and growth of many companies who seize the opportunity. As a business owner/manager you need to ask yourself and your executive&nbsp\;\n<ul>\n	<li>is your organization poised and prepared for growth</li>\n	<li>What is your strategic plan in the deployment of your human resources/talent management</li>\n	<li>Do you have a plan to ensure the right people are in the right roles to support your growth objectives</li>\n	<li>Our expert panel will discuss key steps companies need to take to align your workforce with business priorities and capitalize on the opportunities.</li>\n	<li>Additionally\, to ensure you have a well-defined HR strategy/talent management plan to ensure seamless transition and success for the: large procurement\, campaigns anticipated to roll out in shipbuilding\, LNG\, natural resources\, and other sectors.</li>\n</ul>\nDon&#39\;t miss this opportunity to bring your questions and issues to our first-rate panel of HR professionals.<br />\n<br />\nSpeakers:<br />\nMary Callaghan\, KPMG Advisory Partner\, People &amp\; Change Management Other expert panelists to be confirmed.
LOCATION:KPMG Langley office\, 3rd Floor 8506 - 200th Street\, Langley\, BC
UID:e.749.2792
SEQUENCE:3
DTSTAMP:20260425T152912Z
URL:https://business.swrbot.com/events/details/kpmg-manufacturing-insights-10-16-2014-2792
END:VEVENT

END:VCALENDAR
