BEGIN:VCALENDAR
VERSION:2.0
PRODID:-//ChamberMaster//Event Calendar 2.0//EN
METHOD:PUBLISH
X-PUBLISHED-TTL:P3D
REFRESH-INTERVAL:P3D
CALSCALE:GREGORIAN
BEGIN:VEVENT
DTSTART:20151118T153000Z
DTEND:20151118T173000Z
X-MICROSOFT-CDO-ALLDAYEVENT:FALSE
SUMMARY:KPMG Private Companies Speaking Series - Burnaby
DESCRIPTION:Year End Tax Planning and Accounting Update In an ever-changing business environment\, KPMG Enterprise is committed to helping you keep current on the significant accounting\, auditing and tax changes impacting private companies in Canada. Our experienced team will present key tax update topics and methods that can help you better plan and potentially help reduce corporate and personal taxation. Some of the topics include: Recent income and commodity tax changes\, year-end tax planning ideas to help reduce or defer taxes\, recent accounting issues.
X-ALT-DESC;FMTTYPE=text/html:Year End Tax Planning and Accounting Update In an ever-changing business environment\, KPMG Enterprise is committed to helping you keep current on the significant accounting\, auditing and tax changes impacting private companies in Canada. Our experienced team will present key tax update topics and methods that can help you better plan and potentially help reduce corporate and personal taxation. Some of the topics include: Recent income and commodity tax changes\, year-end tax planning ideas to help reduce or defer taxes\, recent accounting issues.
LOCATION:Hilton Vancouver Metrotown 6083 McKay Avenue Burnaby\, BC
UID:e.749.3700
SEQUENCE:3
DTSTAMP:20260423T230345Z
URL:https://business.swrbot.com/events/details/kpmg-private-companies-speaking-series-burnaby-11-18-2015-3700
END:VEVENT

END:VCALENDAR
