BEGIN:VCALENDAR
VERSION:2.0
PRODID:-//ChamberMaster//Event Calendar 2.0//EN
METHOD:PUBLISH
X-PUBLISHED-TTL:P3D
REFRESH-INTERVAL:P3D
CALSCALE:GREGORIAN
BEGIN:VEVENT
DTSTART:20160518T143000Z
DTEND:20160518T160000Z
X-MICROSOFT-CDO-ALLDAYEVENT:FALSE
SUMMARY:KPMG's Private Company Seminar Series
DESCRIPTION:Acquisition activity and related business valuation matters KPMG's Deal Advisory group will share insights regarding private company valuations and transactions\, including:\n\n- Acquisition activity and trends\n\n- Buyer motivations and what drives value\n\n- Transaction and valuation tips and trends\n\n\n\nThe session will feature a local market update\, including private company valuation multiples\, the lending environment\, and the evolving buyer landscape. Other valuation topics such as shareholder agreement considerations\, implications of the BC Family Law Act\, and employee stock option plans for private companies will also be discussed.
X-ALT-DESC;FMTTYPE=text/html:Acquisition activity and related business valuation matters KPMG&#39\;s Deal Advisory group will share insights regarding private company valuations and transactions\, including:<br />\n- Acquisition activity and trends<br />\n- Buyer motivations and what drives value<br />\n- Transaction and valuation tips and trends<br />\n<br />\nThe session will feature a local market update\, including private company valuation multiples\, the lending environment\, and the evolving buyer landscape. Other valuation topics such as shareholder agreement considerations\, implications of the BC Family Law Act\, and employee stock option plans for private companies will also be discussed.
LOCATION:The Coast Hotel & Convention Centre 20393 Fraser Highway Langley\, BC
UID:e.749.4932
SEQUENCE:3
DTSTAMP:20260424T082038Z
URL:https://business.swrbot.com/events/details/kpmg-s-private-company-seminar-series-05-18-2016-4932
END:VEVENT

END:VCALENDAR
