BEGIN:VCALENDAR
VERSION:2.0
PRODID:-//ChamberMaster//Event Calendar 2.0//EN
METHOD:PUBLISH
X-PUBLISHED-TTL:P3D
REFRESH-INTERVAL:P3D
CALSCALE:GREGORIAN
BEGIN:VEVENT
DTSTART:20161109T010000Z
DTEND:20161109T020000Z
X-MICROSOFT-CDO-ALLDAYEVENT:FALSE
SUMMARY:KPU Brewing Diploma Road Show at Big Ridge Brewing
DESCRIPTION:Find out what it takes to become a head brewer or open your own craft brewery at the KPU Brewing & Brewery Operations Road Show info session at Big Ridge Brewing! Meet KPU Brewing alumni and award-winning head brewer\, Ashley Brooks   who recently won first place at the 2016 BC Beer Awards and the Vancouver International Craft Beer Awards   as well as KPU Brewing program coordinator Michelle Molnar to learn more about KPU's Brewing Diploma. Ashley worked her way up as a brewer while attending KPU and was offered a head brewer position at Big Ridge before she even graduated from the Brewing program! With the exploding growth of the craft beer industry\, high employment rate\, and demand for educated brewers\, KPU's Brewing Diploma students are positioned for success! Bring your questions and find out more about the KPU Brewing program\, curriculum\, tuition\, application process and careers in the craft beer industry. The KPU Brewing program is one of only three brewing diploma programs in Canada and the only one in BC. Open to the public.
X-ALT-DESC;FMTTYPE=text/html:Find out what it takes to become a head brewer or open your own craft brewery at the KPU Brewing &amp\; Brewery Operations Road Show info session at Big Ridge Brewing! Meet KPU Brewing alumni and award-winning head brewer\, Ashley Brooks &mdash\; who recently won first place at the 2016 BC Beer Awards and the Vancouver International Craft Beer Awards &mdash\; as well as KPU Brewing program coordinator Michelle Molnar to learn more about KPU&#39\;s Brewing Diploma. Ashley worked her way up as a brewer while attending KPU and was offered a head brewer position at Big Ridge before she even graduated from the Brewing program! With the exploding growth of the craft beer industry\, high employment rate\, and demand for educated brewers\, KPU&#39\;s Brewing Diploma students are positioned for success! Bring your questions and find out more about the KPU Brewing program\, curriculum\, tuition\, application process and careers in the craft beer industry. The KPU Brewing program is one of only three brewing diploma programs in Canada and the only one in BC. Open to the public.
LOCATION:Big Ridge Brewing 5580-152 Street\, Surrey\, BC
UID:e.749.5151
SEQUENCE:3
DTSTAMP:20260422T082935Z
URL:https://business.swrbot.com/events/details/kpu-brewing-diploma-road-show-at-big-ridge-brewing-11-08-2016-5151
END:VEVENT

END:VCALENDAR
