BEGIN:VCALENDAR
VERSION:2.0
PRODID:-//ChamberMaster//Event Calendar 2.0//EN
METHOD:PUBLISH
X-PUBLISHED-TTL:P3D
REFRESH-INTERVAL:P3D
CALSCALE:GREGORIAN
BEGIN:VEVENT
DTSTART:20200731T003000Z
DTEND:20200731T040000Z
X-MICROSOFT-CDO-ALLDAYEVENT:FALSE
SUMMARY:Latin American Women Flourishing in Canada
DESCRIPTION:A beautiful evening at The Loft Lounge with wine and snacks where Latin American Women will share their inspiring stories and secrets of success to motivate and encourage a new generation of women to step up and reach for their goals in a new country. We are going to have an amazing storytelling about "Arts and the power of choice"\, a panel about "Feminism and Leadership matters" and closing with a multiculturalism workshop to share our ideas and thoughts!\n\n\n\nDate: July 30\, 2020 (Thursday) Place: The Loft Lounge - Upstairs on the corner of Denman & Davie Time: 5:30 pm - 9:00 pm (Pacific Time)\n\nTicket: $30 (it includes the workshop + glass of wine + one appetizer) Special presence of 5 Latin American\n\nWomen: Gabriela Rojo - Tango teacher\, choreographer\, performer and founder of BC Tango (Argentina) Ana Maria Posada - Digital Designer and Versatile Artist (Colombia) Elena Rivera McGregor - Branding Expert & Business Coach (Mexico) Chafika Eddine - Expert on Sustainability and Governance\, and Co-founder of Global Change for Children Foundation (Multicultural) Silvana Goldemberg - Award-Winning Author\, and creator of the "Joan Betty Stuchner Oy Vey! Funniest Children's Book Award" (Argentine/Canadian)
X-ALT-DESC;FMTTYPE=text/html:A beautiful evening at The Loft Lounge with wine and snacks where Latin American Women will share their inspiring stories and secrets of success to motivate and encourage a new generation of women to step up and reach for their goals in a new country. We are going to have an amazing storytelling about &ldquo\;Arts and the power of choice&rdquo\;\, a panel about &ldquo\;Feminism and Leadership matters&rdquo\; and closing with a multiculturalism workshop to share our ideas and thoughts!<br />\n<br />\n<strong>Date: </strong>July 30\, 2020 (Thursday) Place: The Loft Lounge - Upstairs on the corner of Denman &amp\; Davie Time: 5:30 pm - 9:00 pm (Pacific Time)<br />\n<strong>Ticket: </strong>$30 (it includes the workshop + glass of wine + one appetizer) Special presence of 5 Latin American<br />\n<strong>Women: </strong>Gabriela Rojo - Tango teacher\, choreographer\, performer and founder of BC Tango (Argentina) Ana Maria Posada - Digital Designer and Versatile Artist (Colombia) Elena Rivera McGregor - Branding Expert &amp\; Business Coach (Mexico) Chafika Eddine - Expert on Sustainability and Governance\, and Co-founder of Global Change for Children Foundation (Multicultural) Silvana Goldemberg - Award-Winning Author\, and creator of the &quot\;Joan Betty Stuchner Oy Vey! Funniest Children&#39\;s Book Award&quot\; (Argentine/Canadian)
LOCATION:The Loft Lounge 1184 Denman Street ##203 Vancouver\, BC V6G 2M9
UID:e.749.11153
SEQUENCE:3
DTSTAMP:20260419T223417Z
URL:https://business.swrbot.com/events/details/latin-american-women-flourishing-in-canada-07-30-2020-11153
END:VEVENT

END:VCALENDAR
