BEGIN:VCALENDAR
VERSION:2.0
PRODID:-//ChamberMaster//Event Calendar 2.0//EN
METHOD:PUBLISH
X-PUBLISHED-TTL:P3D
REFRESH-INTERVAL:P3D
CALSCALE:GREGORIAN
BEGIN:VEVENT
DTSTART:20190821T143000Z
DTEND:20190821T163000Z
X-MICROSOFT-CDO-ALLDAYEVENT:FALSE
SUMMARY:LCPN Networking Breakfast
DESCRIPTION:Don't miss our LCPN Networking Breakfast: GOING BEYOND We are proud to have two special guest speakers: Jenny Perez is CEO and founder of Perez McKenzie immigration. She is a first-generation Canadian Citizen\, who moved to Canada in 2002 from Peru. Jenny has first-hand experience in the challenges of moving to a new country and starting from scratch. Carlos is the Headshot Photographer for Vancouver and founder of Art of Headshots. He studied at Claude Watson School for the Arts in Toronto and has more than 10 yeas of experience. Date: August 21st\, 2019 (Wednesday) Location: La Terrazza Restaurant\, 1088 Cambie Street\, Vancouver\,BC. Best of all\, a Delicious breakfast is provided with your ticket purchase. Register now as seats are limited! Don't forget to bring a good stock of business cards! If you have questions about\, contact us at your earliest convenience: lcpn@latincouver.ca $20.00 Non-Members | $25.00 at the door Free for LCPN PRO Members
X-ALT-DESC;FMTTYPE=text/html:Don&rsquo\;t miss our LCPN Networking Breakfast: GOING BEYOND We are proud to have two special guest speakers: Jenny Perez is CEO and founder of Perez McKenzie immigration. She is a first-generation Canadian Citizen\, who moved to Canada in 2002 from Peru. Jenny has first-hand experience in the challenges of moving to a new country and starting from scratch. Carlos is the Headshot Photographer for Vancouver and founder of Art of Headshots. He studied at Claude Watson School for the Arts in Toronto and has more than 10 yeas of experience. Date: August 21st\, 2019 (Wednesday) Location: La Terrazza Restaurant\, 1088 Cambie Street\, Vancouver\,BC. Best of all\, a Delicious breakfast is provided with your ticket purchase. Register now as seats are limited! Don&rsquo\;t forget to bring a good stock of business cards! If you have questions about\, contact us at your earliest convenience: lcpn@latincouver.ca $20.00 Non-Members | $25.00 at the door Free for LCPN PRO Members
LOCATION:La Terrazza Restaurant 1088 Cambie Street Vancouver\, BC V6B 6J7
UID:e.749.10580
SEQUENCE:3
DTSTAMP:20260420T150838Z
URL:https://business.swrbot.com/events/details/lcpn-networking-breakfast-08-21-2019-10580
END:VEVENT

END:VCALENDAR
