BEGIN:VCALENDAR
VERSION:2.0
PRODID:-//ChamberMaster//Event Calendar 2.0//EN
METHOD:PUBLISH
X-PUBLISHED-TTL:P3D
REFRESH-INTERVAL:P3D
CALSCALE:GREGORIAN
BEGIN:VEVENT
DTSTART:20140509T150000Z
DTEND:20140509T223000Z
X-MICROSOFT-CDO-ALLDAYEVENT:FALSE
SUMMARY:Leadercast 2014 - Be a leader worth following.
DESCRIPTION:A one day leadership event broadcast LIVE from Atlanta\, GA to hundreds of locations around the world.\n\n\n\nLeadercast exists to positively change the way the world thinks about leadership. This year's theme - Beyond You - challenges leaders to focus outward rather than inward. Experience Leadercast live on May 9\, 2014 and discover what it means to be a leader worth following.
X-ALT-DESC;FMTTYPE=text/html:A one day leadership event broadcast LIVE from Atlanta\, GA to hundreds of locations around the world.<br />\n<br />\nLeadercast exists to positively change the way the world thinks about leadership. This year&rsquo\;s theme - Beyond You - challenges leaders to focus outward rather than inward. Experience Leadercast live on May 9\, 2014 and discover what it means to be a leader worth following.
LOCATION:20385 64th Avenue\, Langley\, BC
UID:e.749.2595
SEQUENCE:3
DTSTAMP:20260425T213443Z
URL:https://business.swrbot.com/events/details/leadercast-2014-be-a-leader-worth-following-05-09-2014-2595
END:VEVENT

END:VCALENDAR
