BEGIN:VCALENDAR
VERSION:2.0
PRODID:-//ChamberMaster//Event Calendar 2.0//EN
METHOD:PUBLISH
X-PUBLISHED-TTL:P3D
REFRESH-INTERVAL:P3D
CALSCALE:GREGORIAN
BEGIN:VEVENT
DTSTART:20140507T220000Z
DTEND:20140508T010000Z
X-MICROSOFT-CDO-ALLDAYEVENT:FALSE
SUMMARY:Lexxon Open House
DESCRIPTION:Join us for an afternoon of food and drinks at Lexxon Training Centre to see our exciting new live stream equipment in action and a preview of our new website. Be one of the first to test our new video equipment and preview our new website before it's official launch!
X-ALT-DESC;FMTTYPE=text/html:Join us for an afternoon of food and drinks at Lexxon Training Centre to see our exciting new live stream equipment in action and a preview of our new website. Be one of the first to test our new video equipment and preview our new website before it&#39\;s official launch!
LOCATION:Lexxon Training Centre Suite 1650 Station Tower 13401-108th Avenue Surrey\, BC
UID:e.749.2644
SEQUENCE:3
DTSTAMP:20260425T212821Z
URL:https://business.swrbot.com/events/details/lexxon-open-house-05-07-2014-2644
END:VEVENT

END:VCALENDAR
