BEGIN:VCALENDAR
VERSION:2.0
PRODID:-//ChamberMaster//Event Calendar 2.0//EN
METHOD:PUBLISH
X-PUBLISHED-TTL:P3D
REFRESH-INTERVAL:P3D
CALSCALE:GREGORIAN
BEGIN:VEVENT
DTSTART:20141129T030000Z
DTEND:20141201T003000Z
X-MICROSOFT-CDO-ALLDAYEVENT:FALSE
SUMMARY:LIFE Designs Women's Renewal Retreat
DESCRIPTION:Relax\, Rejuvenate\, Refocus and LIVE your ideal life.\n\nDo you need an escape from your "everyday"? Need some time to just take a break and focus on YOU? Wouldn't it be amazing to have someone take care of your needs for a change? Imagine 2 days and 2 nights of no cooking\, no demands\, no pressure\, no requirements\, no responsibilities and no "Must do's". Simply\, to have the opportunity to relax\, rejuvenate and refocus and take the time to enjoy what your life has to offer.\n\n\n\nWe invite you to join us for our 2 day\, 2 night Renewal Retreat near beautiful Whistler BC at Brew Creek Centre. Sheltered by the Coastal Range\, and nourished by waterfalls\, ponds and Brew Creek\, this serene and beautiful setting is an ideal way to relax\, rejuvenate and refocus. You will have the opportunity to enjoy the quiet beauty of nature while in the comfort of well appointed contemporary west coast accommodations. Although Brew Creek Center is secluded by deep forest\, it is only a 90 minute drive from downtown Vancouver and 20 minutes south of Whistler\, simply\, an easy getaway from your everyday.
X-ALT-DESC;FMTTYPE=text/html:<h2 class="subheader">Relax\, Rejuvenate\, Refocus and LIVE your ideal life.</h2>\n\n<p class="first">Do you need an escape from your &quot\;everyday&quot\;? Need some time to just take a break and focus on YOU? Wouldn&#39\;t it be amazing to have someone take care of your needs for a change? Imagine 2 days and 2 nights of no cooking\, no demands\, no pressure\, no requirements\, no responsibilities and no &quot\;Must do&#39\;s&quot\;. Simply\, to have the opportunity to relax\, rejuvenate and refocus and take the time to enjoy what your life has to offer.<br />\n<br />\n<strong>We invite you to join us for our 2 day\, 2 night Renewal Retreat near beautiful Whistler BC at Brew Creek Centre.</strong> Sheltered by the Coastal Range\, and nourished by waterfalls\, ponds and Brew Creek\, this serene and beautiful setting is an ideal way to relax\, rejuvenate and refocus. You will have the opportunity to enjoy the quiet beauty of nature while in the comfort of well appointed contemporary west coast accommodations. Although Brew Creek Center is secluded by deep forest\, it is only a 90 minute drive from downtown Vancouver and 20 minutes south of Whistler\, simply\, an easy getaway from your everyday.</p>\n
LOCATION:Brew Creek Centre. 1 Brew Creek Road\, Whistler\, BC V0N 1B1 Canada
UID:e.749.2766
SEQUENCE:3
DTSTAMP:20260425T140514Z
URL:https://business.swrbot.com/events/details/life-designs-women-s-renewal-retreat-11-28-2014-2766
END:VEVENT

END:VCALENDAR
