BEGIN:VCALENDAR
VERSION:2.0
PRODID:-//ChamberMaster//Event Calendar 2.0//EN
METHOD:PUBLISH
X-PUBLISHED-TTL:P3D
REFRESH-INTERVAL:P3D
CALSCALE:GREGORIAN
BEGIN:VEVENT
DTSTART;VALUE=DATE:20140423
DTEND;VALUE=DATE:20140426
TRANSP:TRANSPARENT
X-MICROSOFT-CDO-ALLDAYEVENT:TRUE
SUMMARY:Loss Prevention Program
DESCRIPTION:Loss Prevention is the act of reducing theft and shrinkage within your business.  Did you know retail thefts cost Canadian retailers$3.6 billion annually an on a per case average\, employees steal over 7 times the amount stolen by shoplifters?\n\nThis program provides informationa and insight to business owners for reducing loss of product including:\n\n        - Minimize paperwork errors\n\n        - Identify internal theft\n\n        - Identify external theft\n\nStudents will complete practical exercises and will receive a Loss Prevention Security Certificate upon successful completion.  This course was created\, and is facilitated\, by a team of highly experienced and credible instructors within the security and policing industry.
X-ALT-DESC;FMTTYPE=text/html:Loss Prevention is the act of reducing theft and shrinkage within your business.&nbsp\; Did you know retail thefts cost Canadian retailers$3.6 billion annually an on a per case average\, employees steal over 7 times the amount stolen by shoplifters?<br />\nThis program provides informationa and insight to business owners for reducing loss of product including:<br />\n&nbsp\;&nbsp\;&nbsp\;&nbsp\;&nbsp\;&nbsp\;&nbsp\;&nbsp\;- Minimize paperwork errors<br />\n&nbsp\;&nbsp\;&nbsp\;&nbsp\;&nbsp\;&nbsp\;&nbsp\;&nbsp\;- Identify internal theft<br />\n&nbsp\;&nbsp\;&nbsp\;&nbsp\;&nbsp\;&nbsp\;&nbsp\;&nbsp\;- Identify external theft<br />\nStudents will complete practical exercises and will receive a Loss Prevention Security Certificate upon successful completion.&nbsp\; This course was created\, and is facilitated\, by a team of highly experienced and credible instructors within the security and policing industry.
LOCATION:Lexxon Training Centre 1650 - 13401 - 108th Ave Station Tower Surrey\, BC V3T 5T3
UID:e.749.2621
SEQUENCE:3
DTSTAMP:20260425T223543Z
URL:https://business.swrbot.com/events/details/loss-prevention-program-04-23-2014-2621
END:VEVENT

END:VCALENDAR
