BEGIN:VCALENDAR
VERSION:2.0
PRODID:-//ChamberMaster//Event Calendar 2.0//EN
METHOD:PUBLISH
X-PUBLISHED-TTL:P3D
REFRESH-INTERVAL:P3D
CALSCALE:GREGORIAN
BEGIN:VEVENT
DTSTART;VALUE=DATE:20140310
DTEND;VALUE=DATE:20140315
TRANSP:TRANSPARENT
X-MICROSOFT-CDO-ALLDAYEVENT:TRUE
SUMMARY:Loss Prevention Security Officer Training
DESCRIPTION:OVERVIEW\n\n	Loss prevention is the act of reducing theft and shrinkage within a business. Lexxon's Loss Prevention Security course (LPS) is designed to give the student both the conceptual knowledge and the practical skills required to prevent or minimize business theft.\n\n	During this five day course\, students will complete practical exercises and receive a Loss Prevention Security Certificate upon successful completion. This course was created by a team of highly experienced and credible instructors within the security and policing industry.\n\n	The Loss Prevention Security course topics include:\n\n	  The role of the Loss Prevention Security Professional\n\n	  Understanding/detecting modern theft techniques\n\n	  Practical field exercises\n\n	  Surveillance tactics\n\n	  Interviewing methods \n\n	  Identifying criminal offences\n\n	  Search and seizure\n\n	  Power of arrest and coordinating with Law Enforcement\n\n	CONTACT US TODAY TO REGISTER:\n\n	Lexxon Training provides transformational workshops that inspire organizational change and personal development for all levels.\n\n	TF 855.215.5527\n\n	www.lexxon.ca\n\n	Transforming people one workshop at a time.
X-ALT-DESC;FMTTYPE=text/html:<p class="Pa0" style="margin: 0in 0in 0pt\;">\n	<strong><font color="#ef363d"><span class="A2"><span style="font-size: 9pt\;">OVERVIEW</span></span><span style="color: rgb(239\, 54\, 61)\; font-size: 9pt\; mso-bidi-font-family: &quot\;Helvetica 55 Roman&quot\;\;"><o:p></o:p></span></font></strong></p>\n<p class="Pa0" style="margin: 0in 0in 0pt\;">\n	<font color="#221e1f"><span class="A3"><span style="font-size: 8.5pt\;">Loss prevention is the act of reducing theft and shrinkage within a business. Lexxon&rsquo\;s Loss Prevention Security course (LPS) is designed to give the student both the conceptual knowledge and the practical skills required to prevent or minimize business theft.</span></span><span style="color: rgb(34\, 30\, 31)\; font-family: &quot\;Helvetica 45 Light&quot\;\,&quot\;sans-serif&quot\;\; font-size: 8.5pt\; mso-bidi-font-family: &quot\;Helvetica 45 Light&quot\;\;"><o:p></o:p></span></font></p>\n<p class="Pa0" style="margin: 0in 0in 0pt\;">\n	<font color="#221e1f"><span class="A3"><span style="font-size: 8.5pt\;">During this five day course\, students will complete practical exercises and receive a Loss Prevention Security Certificate upon successful completion. This course was created by a team of highly experienced and credible instructors within the security and policing industry.</span></span><span style="color: rgb(34\, 30\, 31)\; font-family: &quot\;Helvetica 45 Light&quot\;\,&quot\;sans-serif&quot\;\; font-size: 8.5pt\; mso-bidi-font-family: &quot\;Helvetica 45 Light&quot\;\;"><o:p></o:p></span></font></p>\n<p class="Pa0" style="margin: 0in 0in 0pt\;">\n	<font color="#221e1f"><span class="A3"><span style="font-size: 8.5pt\;">The Loss Prevention Security course topics include:</span></span><span style="color: rgb(34\, 30\, 31)\; font-family: &quot\;Helvetica 45 Light&quot\;\,&quot\;sans-serif&quot\;\; font-size: 8.5pt\; mso-bidi-font-family: &quot\;Helvetica 45 Light&quot\;\;"><o:p></o:p></span></font></p>\n<p class="Pa1" style="margin: 0in 0in 0pt\;">\n	<span class="A3"><span style="color: rgb(239\, 54\, 61)\; font-size: 8.5pt\;">&bull\; </span></span><font color="#221e1f"><span class="A3"><span style="font-size: 8.5pt\;">The role of the Loss Prevention Security Professional</span></span><span style="color: rgb(34\, 30\, 31)\; font-family: &quot\;Helvetica 45 Light&quot\;\,&quot\;sans-serif&quot\;\; font-size: 8.5pt\; mso-bidi-font-family: &quot\;Helvetica 45 Light&quot\;\;"><o:p></o:p></span></font></p>\n<p class="Pa1" style="margin: 0in 0in 0pt\;">\n	<span class="A3"><span style="color: rgb(239\, 54\, 61)\; font-size: 8.5pt\;">&bull\; </span></span><font color="#221e1f"><span class="A3"><span style="font-size: 8.5pt\;">Understanding/detecting modern theft techniques</span></span><span style="color: rgb(34\, 30\, 31)\; font-family: &quot\;Helvetica 45 Light&quot\;\,&quot\;sans-serif&quot\;\; font-size: 8.5pt\; mso-bidi-font-family: &quot\;Helvetica 45 Light&quot\;\;"><o:p></o:p></span></font></p>\n<p class="Pa1" style="margin: 0in 0in 0pt\;">\n	<span class="A3"><span style="color: rgb(239\, 54\, 61)\; font-size: 8.5pt\;">&bull\; </span></span><font color="#221e1f"><span class="A3"><span style="font-size: 8.5pt\;">Practical field exercises</span></span><span style="color: rgb(34\, 30\, 31)\; font-family: &quot\;Helvetica 45 Light&quot\;\,&quot\;sans-serif&quot\;\; font-size: 8.5pt\; mso-bidi-font-family: &quot\;Helvetica 45 Light&quot\;\;"><o:p></o:p></span></font></p>\n<p class="Pa2" style="margin: 0in 0in 0pt\;">\n	<span class="A3"><span style="color: rgb(239\, 54\, 61)\; font-size: 8.5pt\;">&bull\; </span></span><font color="#221e1f"><span class="A3"><span style="font-size: 8.5pt\;">Surveillance tactics</span></span><span style="color: rgb(34\, 30\, 31)\; font-family: &quot\;Helvetica 45 Light&quot\;\,&quot\;sans-serif&quot\;\; font-size: 8.5pt\; mso-bidi-font-family: &quot\;Helvetica 45 Light&quot\;\;"><o:p></o:p></span></font></p>\n<p class="Pa3" style="margin: 0in 0in 0pt\;">\n	<span class="A3"><span style="color: rgb(239\, 54\, 61)\; font-size: 8.5pt\;">&bull\; </span></span><font color="#221e1f"><span class="A3"><span style="font-size: 8.5pt\;">Interviewing methods </span></span><span style="color: rgb(34\, 30\, 31)\; font-family: &quot\;Helvetica 45 Light&quot\;\,&quot\;sans-serif&quot\;\; font-size: 8.5pt\; mso-bidi-font-family: &quot\;Helvetica 45 Light&quot\;\;"><o:p></o:p></span></font></p>\n<p class="Pa3" style="margin: 0in 0in 0pt\;">\n	<span class="A3"><span style="color: rgb(239\, 54\, 61)\; font-size: 8.5pt\;">&bull\; </span></span><font color="#221e1f"><span class="A3"><span style="font-size: 8.5pt\;">Identifying criminal offences</span></span><span style="color: rgb(34\, 30\, 31)\; font-family: &quot\;Helvetica 45 Light&quot\;\,&quot\;sans-serif&quot\;\; font-size: 8.5pt\; mso-bidi-font-family: &quot\;Helvetica 45 Light&quot\;\;"><o:p></o:p></span></font></p>\n<p class="Pa3" style="margin: 0in 0in 0pt\;">\n	<span class="A3"><span style="color: rgb(239\, 54\, 61)\; font-size: 8.5pt\;">&bull\; </span></span><font color="#221e1f"><span class="A3"><span style="font-size: 8.5pt\;">Search and seizure</span></span><span style="color: rgb(34\, 30\, 31)\; font-family: &quot\;Helvetica 45 Light&quot\;\,&quot\;sans-serif&quot\;\; font-size: 8.5pt\; mso-bidi-font-family: &quot\;Helvetica 45 Light&quot\;\;"><o:p></o:p></span></font></p>\n<p class="Pa2" style="margin: 0in 0in 0pt\;">\n	<span class="A3"><span style="color: rgb(239\, 54\, 61)\; font-size: 8.5pt\;">&bull\; </span></span><font color="#221e1f"><span class="A3"><span style="font-size: 8.5pt\;">Power of arrest and coordinating with Law Enforcement</span></span><span style="color: rgb(34\, 30\, 31)\; font-family: &quot\;Helvetica 45 Light&quot\;\,&quot\;sans-serif&quot\;\; font-size: 8.5pt\; mso-bidi-font-family: &quot\;Helvetica 45 Light&quot\;\;"><o:p></o:p></span></font></p>\n<p class="Pa0" style="margin: 0in 0in 0pt\;">\n	<strong><font color="#ef363d"><span class="A2"><span style="font-size: 9pt\;">CONTACT US TODAY TO REGISTER:</span></span><span style="color: rgb(239\, 54\, 61)\; font-size: 9pt\; mso-bidi-font-family: &quot\;Helvetica 55 Roman&quot\;\;"><o:p></o:p></span></font></strong></p>\n<p class="Pa0" style="margin: 0in 0in 0pt\;">\n	<font color="#221e1f"><span class="A4"><span style="font-size: 8pt\;">Lexxon Training provides transformational workshops that inspire organizational change and personal development for all levels.</span></span><span style="color: rgb(34\, 30\, 31)\; font-family: &quot\;Helvetica 45 Light&quot\;\,&quot\;sans-serif&quot\;\; font-size: 8pt\; mso-bidi-font-family: &quot\;Helvetica 45 Light&quot\;\;"><o:p></o:p></span></font></p>\n<p class="Pa0" style="margin: 0in 0in 0pt\;">\n	<font face="Arial"><span class="A4"><span style="color: rgb(239\, 54\, 61)\; font-family: &quot\;Helvetica 65 Medium&quot\;\,&quot\;sans-serif&quot\;\; font-size: 8pt\; mso-bidi-font-family: &quot\;Helvetica 65 Medium&quot\;\;">TF </span></span><font color="#221e1f"><span class="A4"><span style="font-size: 8pt\;">855.215.5527</span></span><span style="color: rgb(34\, 30\, 31)\; font-family: &quot\;Helvetica 45 Light&quot\;\,&quot\;sans-serif&quot\;\; font-size: 8pt\; mso-bidi-font-family: &quot\;Helvetica 45 Light&quot\;\;"><o:p></o:p></span></font></font></p>\n<p class="Pa0" style="margin: 0in 0in 0pt\;">\n	<span class="A4"><span style="color: rgb(239\, 54\, 61)\; font-family: &quot\;Helvetica 65 Medium&quot\;\,&quot\;sans-serif&quot\;\; font-size: 8pt\; mso-bidi-font-family: &quot\;Helvetica 65 Medium&quot\;\;">www.lexxon.ca</span></span><span style="color: rgb(239\, 54\, 61)\; font-family: &quot\;Helvetica 65 Medium&quot\;\,&quot\;sans-serif&quot\;\; font-size: 8pt\; mso-bidi-font-family: &quot\;Helvetica 65 Medium&quot\;\;"><o:p></o:p></span></p>\n<p class="MsoNormal" style="margin: 0in 0in 10pt\;">\n	<span class="A4"><span style="color: rgb(239\, 54\, 61)\; line-height: 115%\; font-family: &quot\;Helvetica 65 Medium&quot\;\,&quot\;sans-serif&quot\;\; font-size: 8pt\; mso-bidi-font-family: &quot\;Helvetica 65 Medium&quot\;\;">Transforming people&mdash\;one workshop at a time.</span></span><o:p></o:p></p>\n
LOCATION:LEXXON Training Centre 1650 Station Tower 13401 - 108th Ave Surrey\, BC
UID:e.749.2578
SEQUENCE:3
DTSTAMP:20260425T235110Z
URL:https://business.swrbot.com/events/details/loss-prevention-security-officer-training-03-10-2014-2578
END:VEVENT

END:VCALENDAR
