BEGIN:VCALENDAR
VERSION:2.0
PRODID:-//ChamberMaster//Event Calendar 2.0//EN
METHOD:PUBLISH
X-PUBLISHED-TTL:P3D
REFRESH-INTERVAL:P3D
CALSCALE:GREGORIAN
BEGIN:VEVENT
DTSTART:20150926T180000Z
DTEND:20150926T220000Z
X-MICROSOFT-CDO-ALLDAYEVENT:FALSE
SUMMARY:Maker Showcase
DESCRIPTION:Surrey Libraries Maker Showcase is aimed at bringing together the Surrey community of makers\, doers\, and creatives to network\, showcase projects and talents\, and to foster and grow the maker community in the City of Surrey.\n\nThe showcase will feature individuals\, hobby clubs\, makerspaces\, and community groups. Learn about 3D printing\, interactive arts\, Meccano\, digital video and more! Come be surprised by interactive exhibits and speakers.
X-ALT-DESC;FMTTYPE=text/html:<p>Surrey Libraries Maker Showcase is aimed at bringing together the Surrey community of makers\, doers\, and creatives to network\, showcase projects and talents\, and to foster and grow the maker community in the City of Surrey.</p>\n\n<p>The showcase will feature individuals\, hobby clubs\, makerspaces\,&nbsp\;and&nbsp\;community groups. Learn about 3D printing\, interactive arts\, Meccano\,&nbsp\;digital video and more!&nbsp\;Come be surprised by interactive exhibits and speakers.</p>\n
LOCATION:City Centre Library: 10350 University Drive\, Surrey\, BC\, V3T 4B8
UID:e.749.3665
SEQUENCE:3
DTSTAMP:20260423T195914Z
URL:https://business.swrbot.com/events/details/maker-showcase-09-26-2015-3665
END:VEVENT

END:VCALENDAR
