BEGIN:VCALENDAR
VERSION:2.0
PRODID:-//ChamberMaster//Event Calendar 2.0//EN
METHOD:PUBLISH
X-PUBLISHED-TTL:P3D
REFRESH-INTERVAL:P3D
CALSCALE:GREGORIAN
BEGIN:VEVENT
DTSTART:20141015T160000Z
DTEND:20141016T003000Z
X-MICROSOFT-CDO-ALLDAYEVENT:FALSE
SUMMARY:Manufacturing Month Industry Tour - DELTA
DESCRIPTION:Manufacturing Month Industry Tour - Delta Date: October 8\, 2014 Time: 9:00 am\n\n\n\nLocation:\n\nThe tour will depart from Delta City Hall at 9:00 am 4500 Clarence Taylor Crescent Delta\, BC\n\n\n\nSponsored by CME & Translink\, this industry tour will depart from and return to Delta City Hall and visit the following facilities:\n\n9:30 am - Marcon Metalfab - http://marconmetalfab.com/ \n\n11:00 am - Unifiller - http://www.unifiller.com/ \n\n1:00 pm - Sei Industries - http://www.sei-ind.com/ \n\n2:30 pm - Avcorp - http://www.avcorp.com/ \n\n4:00 pm BCIT Aerospace for a reception - http://www.bcit.ca/transportation/aerospace/ \n\n\n\nThis Translink Industry Tour bus will return to Delta City Hall for drop off.
X-ALT-DESC;FMTTYPE=text/html:Manufacturing Month Industry Tour - Delta Date: October 8\, 2014 Time: 9:00 am<br />\n<br />\nLocation:<br />\nThe tour will depart from Delta City Hall at 9:00 am 4500 Clarence Taylor Crescent Delta\, BC<br />\n<br />\nSponsored by CME &amp\; Translink\, this industry tour will depart from and return to Delta City Hall and visit the following facilities:<br />\n9:30 am - Marcon Metalfab - <a href="http://marconmetalfab.com/">http://marconmetalfab.com/ </a><br />\n11:00 am - Unifiller - <a href="http://unifiller.com/">http://www.unifiller.com/ </a><br />\n1:00 pm - Sei Industries - <a href="http://sei-ind.com/">http://www.sei-ind.com/ </a><br />\n2:30 pm - Avcorp - <a href="http://avcorp.com/">http://www.avcorp.com/ </a><br />\n4:00 pm BCIT Aerospace for a reception - <a href="http://www.bcit.ca/transportation/aerospace/">http://www.bcit.ca/transportation/aerospace/ </a><br />\n<br />\nThis Translink Industry Tour bus will return to Delta City Hall for drop off.
LOCATION:The tour will depart from Delta City Hall at 9:00 am 4500 Clarence Taylor Crescent Delta\, BC
UID:e.749.2791
SEQUENCE:3
DTSTAMP:20260425T151849Z
URL:https://business.swrbot.com/events/details/manufacturing-month-industry-tour-delta-10-15-2014-2791
END:VEVENT

END:VCALENDAR
