BEGIN:VCALENDAR
VERSION:2.0
PRODID:-//ChamberMaster//Event Calendar 2.0//EN
METHOD:PUBLISH
X-PUBLISHED-TTL:P3D
REFRESH-INTERVAL:P3D
CALSCALE:GREGORIAN
BEGIN:VEVENT
DTSTART:20141024T160000Z
DTEND:20141025T003000Z
X-MICROSOFT-CDO-ALLDAYEVENT:FALSE
SUMMARY:Manufacturing Month Industry Tour - FRASER VALLEY
DESCRIPTION:Manufacturing Month Industry Tour - Fraser Valley\n\nDate: October 24\, 2014\n\nTime: 9:00 am\n\nLocation: The tour will depart from and conclude at Abbotsford City Hall at 9:00 am 32315 South Fraser Way Abbotsford\, BC\n\nSponsored by CME & Translink\n\n\n\nThe Tour will depart from and return to Abbotsford City Hall and visit the following facilities:\n\n	9:30 am - Magnum Trailer and Equipment - http://www.magnumtrailer.com/ \n	11:00 am - IMW Industries - http://www.imw.ca/ \n	1:00 pm - Tycrop - http://tycrop.com/ \n	2:30 pm Mussel Cranes - mussellcrane.com/ \n	4:00 pm University of the Fraser Valley for a reception.\n\nThe tour bus will return to Abbotsford City Hall for drop off.
X-ALT-DESC;FMTTYPE=text/html:Manufacturing Month Industry Tour - Fraser Valley<br />\nDate: October 24\, 2014<br />\nTime: 9:00 am<br />\nLocation: The tour will depart from and conclude at Abbotsford City Hall at 9:00 am 32315 South Fraser Way Abbotsford\, BC<br />\nSponsored by CME &amp\; Translink<br />\n<br />\nThe Tour will depart from and return to Abbotsford City Hall and visit the following facilities:\n<ul>\n	<li>9:30 am - Magnum Trailer and Equipment - <a href="http://www.magnumtrailer.com/">http://www.magnumtrailer.com/ </a></li>\n	<li>11:00 am - IMW Industries - <a href="http://www.imw.ca/">http://www.imw.ca/ </a></li>\n	<li>1:00 pm - Tycrop - <a href="http://tycrop.com/">http://tycrop.com/ </a></li>\n	<li>2:30 pm Mussel Cranes - <a href="http://mussellcrane.com/">mussellcrane.com/ </a></li>\n	<li>4:00 pm University of the Fraser Valley for a reception.</li>\n</ul>\nThe tour bus will return to Abbotsford City Hall for drop off.
LOCATION:The tour will depart from and conclude at Abbotsford City Hall at 9:00 am 32315 South Fraser Way Abbotsford\, BC
UID:e.749.2796
SEQUENCE:3
DTSTAMP:20260425T151909Z
URL:https://business.swrbot.com/events/details/manufacturing-month-industry-tour-fraser-valley-10-24-2014-2796
END:VEVENT

END:VCALENDAR
