BEGIN:VCALENDAR
VERSION:2.0
PRODID:-//ChamberMaster//Event Calendar 2.0//EN
METHOD:PUBLISH
X-PUBLISHED-TTL:P3D
REFRESH-INTERVAL:P3D
CALSCALE:GREGORIAN
BEGIN:VEVENT
DTSTART:20141017T160000Z
DTEND:20141017T223000Z
X-MICROSOFT-CDO-ALLDAYEVENT:FALSE
SUMMARY:Manufacturing Month Industry Tour - NORTH FRASER
DESCRIPTION:Manufacturing Month Industry Tour - North Fraser\n\nDate: October 17\, 2014 Time: 9:00 am\n\nLocation: This tour will depart from the Economic Development Office in Maple Ridge at 9:00 am. 11995 Haney Place Maple Ridge\, BC\n\nSponsored by CME & Translink\n\n\n\nTthis tour will depart from and return to the Economic Development Office in Maple Ridge and visit the following facilities:\n\n	9:30 am - Ph Molds/Simpson - http://www.strongtie.com/ \n	Chrislan - http://www.chrislanceramics.com/ \n	Kanaka Industrial Park\n	Maple Ridge Economic Development office for a reception
X-ALT-DESC;FMTTYPE=text/html:Manufacturing Month Industry Tour - North Fraser<br />\nDate: October 17\, 2014 Time: 9:00 am<br />\nLocation: This tour will depart from the Economic Development Office in Maple Ridge at 9:00 am. 11995 Haney Place Maple Ridge\, BC<br />\nSponsored by CME &amp\; Translink<br />\n<br />\nTthis tour will depart from and return to the Economic Development Office in Maple Ridge and visit the following facilities:\n<ul>\n	<li>9:30 am - Ph Molds/Simpson - <a href="http://www.strongtie.com/">http://www.strongtie.com/ </a></li>\n	<li>Chrislan - <a href="http://wwewe.chrislanceramics.com/">http://www.chrislanceramics.com/ </a></li>\n	<li>Kanaka Industrial Park</li>\n	<li>Maple Ridge Economic Development office for a reception</li>\n</ul>\n
LOCATION:This tour will depart from the Economic Development Office in Maple Ridge at 9:00 am. 11995 Haney Place Maple Ridge\, BC
UID:e.749.2793
SEQUENCE:3
DTSTAMP:20260425T151931Z
URL:https://business.swrbot.com/events/details/manufacturing-month-industry-tour-north-fraser-10-17-2014-2793
END:VEVENT

END:VCALENDAR
