BEGIN:VCALENDAR
VERSION:2.0
PRODID:-//ChamberMaster//Event Calendar 2.0//EN
METHOD:PUBLISH
X-PUBLISHED-TTL:P3D
REFRESH-INTERVAL:P3D
CALSCALE:GREGORIAN
BEGIN:VEVENT
DTSTART:20141008T153000Z
DTEND:20141008T233000Z
X-MICROSOFT-CDO-ALLDAYEVENT:FALSE
SUMMARY:Manufacturing Month Industry Tour - RICHMOND
DESCRIPTION:This tour will depart from (and conclude at) Richmond City Hall and visit the following impressive Richmond manufacturers: EBCO Industries\, Corvus Energy\, Ideon Packaging\, Hansen Industrial\, and Kwantlen Polytecnic University for a reception.
X-ALT-DESC;FMTTYPE=text/html:This tour will depart from (and conclude at) Richmond City Hall and visit the following impressive Richmond manufacturers: EBCO Industries\, Corvus Energy\, Ideon Packaging\, Hansen Industrial\, and Kwantlen Polytecnic University for a reception.
LOCATION:The tour will depart from and conclude at Richmond City Hall. 6911 Road No. 3 Richmond\, BC
UID:e.749.2790
SEQUENCE:3
DTSTAMP:20260425T153004Z
URL:https://business.swrbot.com/events/details/manufacturing-month-industry-tour-richmond-10-08-2014-2790
END:VEVENT

END:VCALENDAR
