BEGIN:VCALENDAR
VERSION:2.0
PRODID:-//ChamberMaster//Event Calendar 2.0//EN
METHOD:PUBLISH
X-PUBLISHED-TTL:P3D
REFRESH-INTERVAL:P3D
CALSCALE:GREGORIAN
BEGIN:VEVENT
DTSTART:20141003T153000Z
DTEND:20141004T003000Z
X-MICROSOFT-CDO-ALLDAYEVENT:FALSE
SUMMARY:Manufacturing Month Industry Tour - SURREY
DESCRIPTION:Manufacturing Month Industry Tour - Surrey Date: October 3\, 2014\n\nTime: 8:30 am\n\nLocation: This tour will depart from Surrey City Hall at 8:30 am 13450 104 Ave\, Surrey\, BC\n\nSponsored by CME & Translink\, this tour will depart from and conclude at Surrey City Hall and visit the following facilities:\n\n9:00 am - Advanced Wire Products http://www.awp.ca/\n\n10:30 am - Endurance Wind Power - www.endurancewindpower.com/\n\n1:00 pm - Columbia Plastics - http://columbiaplastics.com/\n\n2:30 pm - Wellons Canada - www.wellons.ca/\n\n4:00 pm - SFU Surrey campus for reception and refreshments\n\nThe Translink Industry Tour bus will return to Surrey City Hall for drop off.
X-ALT-DESC;FMTTYPE=text/html:Manufacturing Month Industry Tour - Surrey Date: October 3\, 2014<br />\nTime: 8:30 am<br />\nLocation: This tour will depart from Surrey City Hall at 8:30 am 13450 104 Ave\, Surrey\, BC<br />\nSponsored by CME &amp\; Translink\, this tour will depart from and conclude at Surrey City Hall and visit the following facilities:<br />\n9:00 am - Advanced Wire Products <a href="http://www.awp.ca/">http://www.awp.ca/</a><br />\n10:30 am - Endurance Wind Power - <a href="http://www.endurancewindpower.com/">www.endurancewindpower.com/</a><br />\n1:00 pm - Columbia Plastics - <a href="http://columbiaplastics.com/">http://columbiaplastics.com/</a><br />\n2:30 pm - Wellons Canada - <a href="http://www.wellons.ca/">www.wellons.ca/</a><br />\n4:00 pm - SFU Surrey campus for reception and refreshments<br />\nThe Translink Industry Tour bus will return to Surrey City Hall for drop off.
LOCATION:This tour will depart from Surrey City Hall at 8:30 am 13450 104 Ave\, Surrey\, BC
UID:e.749.2788
SEQUENCE:3
DTSTAMP:20260425T151907Z
URL:https://business.swrbot.com/events/details/manufacturing-month-industry-tour-surrey-10-03-2014-2788
END:VEVENT

END:VCALENDAR
