BEGIN:VCALENDAR
VERSION:2.0
PRODID:-//ChamberMaster//Event Calendar 2.0//EN
METHOD:PUBLISH
X-PUBLISHED-TTL:P3D
REFRESH-INTERVAL:P3D
CALSCALE:GREGORIAN
BEGIN:VEVENT
DTSTART:20160301T154500Z
DTEND:20160301T173000Z
X-MICROSOFT-CDO-ALLDAYEVENT:FALSE
SUMMARY:March 1\, 2016 - Cloverdale Crime and Business Breakfast
DESCRIPTION:Featuring guest speakers:\n\n\n\n  Surrey RCMP Representatives\n\n  City of Surrey Representatives\n\n  Metro Vancouver Crime Stoppers\n\n\n\nPlease come prepared with questions or issues\n\n\n\nthat your business would like to address.
X-ALT-DESC;FMTTYPE=text/html:<strong>Featuring guest speakers:</strong><br />\n<br />\n&bull\; Surrey RCMP Representatives<br />\n&bull\; City of Surrey Representatives<br />\n&bull\; Metro Vancouver Crime Stoppers<br />\n<br />\nPlease come prepared with questions or issues<br />\n<br />\nthat your business would like to address.
LOCATION:Elements Casino 17755 60 Avenue\, Surrey
UID:e.749.3753
SEQUENCE:3
DTSTAMP:20260424T051249Z
URL:https://business.swrbot.com/events/details/march-1-2016-cloverdale-crime-and-business-breakfast-03-01-2016-3753
END:VEVENT

END:VCALENDAR
