BEGIN:VCALENDAR
VERSION:2.0
PRODID:-//ChamberMaster//Event Calendar 2.0//EN
METHOD:PUBLISH
X-PUBLISHED-TTL:P3D
REFRESH-INTERVAL:P3D
CALSCALE:GREGORIAN
BEGIN:VEVENT
DTSTART;VALUE=DATE:20090311
DTEND;VALUE=DATE:20090312
TRANSP:TRANSPARENT
X-MICROSOFT-CDO-ALLDAYEVENT:TRUE
SUMMARY:March 11\, '09 - Mayor's State of Address
DESCRIPTION:
X-ALT-DESC;FMTTYPE=text/html:
LOCATION:
UID:e.749.1496
SEQUENCE:3
DTSTAMP:20260423T200545Z
URL:https://business.swrbot.com/events/details/march-11-09-mayor-s-state-of-address-03-11-2009-1496
END:VEVENT

END:VCALENDAR
