BEGIN:VCALENDAR
VERSION:2.0
PRODID:-//ChamberMaster//Event Calendar 2.0//EN
METHOD:PUBLISH
X-PUBLISHED-TTL:P3D
REFRESH-INTERVAL:P3D
CALSCALE:GREGORIAN
BEGIN:VEVENT
DTSTART:20150311T230000Z
DTEND:20150312T003000Z
X-MICROSOFT-CDO-ALLDAYEVENT:FALSE
SUMMARY:March 11\, 2015 - Surrey Transportation Town Hall Forum
DESCRIPTION:SURREY TRANSPORTATION TOWN HALL FORUMS\n\n\n\nPort Kells\n\n\n\nOrganized by the Surrey Board of Trade VOTING YES FOR TRANSPORTATION IMPROVEMENTS IN SURREY TO SUPPORT SURREY'S ECONOMY
X-ALT-DESC;FMTTYPE=text/html:SURREY TRANSPORTATION TOWN HALL FORUMS<br />\n<br />\nPort Kells<br />\n<br />\nOrganized by the Surrey Board of Trade VOTING YES FOR TRANSPORTATION IMPROVEMENTS IN SURREY TO SUPPORT SURREY&rsquo\;S ECONOMY
LOCATION:Baron's Manor Pub 9568 192 Street
UID:e.749.3318
SEQUENCE:3
DTSTAMP:20260423T101455Z
URL:https://business.swrbot.com/events/details/march-11-2015-surrey-transportation-town-hall-forum-03-11-2015-3318
END:VEVENT

END:VCALENDAR
