BEGIN:VCALENDAR
VERSION:2.0
PRODID:-//ChamberMaster//Event Calendar 2.0//EN
METHOD:PUBLISH
X-PUBLISHED-TTL:P3D
REFRESH-INTERVAL:P3D
CALSCALE:GREGORIAN
BEGIN:VEVENT
DTSTART:20140312T183000Z
DTEND:20140312T203000Z
X-MICROSOFT-CDO-ALLDAYEVENT:FALSE
SUMMARY:March 12\, 2014 - Women in Business Awards
DESCRIPTION:Fifth Annual Surrey Women in Business Awards\n\n\n\nCelebrate the achievements of Women in Business at the 5th Annual Surrey Women in Business Awards\, featuring keynote speaker Marcella Szel\, TransLink's new Board Chair\, and MC Steve Darling! This event\, taking place on March 12\, 2014\, recognizes the hard work of Surrey's businesswomen and their contributions to the community\, in four award categories: \n\n\n	Entrepreneur\n	Corporate/Leadership\n	Professional\n	Not-for-Profit Leader\n\n\n\nThe finalists are (in alphabetical order by last name):\n\n \n\nEntrepreneur\n\n \n\nSusan Bains   Holistic HR\n\nTracy Bell   La Belle Fleur Floral Boutique\n\nChandra Blouin and Sherry Jacobi   Studiothink\n\n \n\nProfessional\n\n \n\nTara Britnell   Hamilton Duncan Armstrong & Stewart\n\nPenny Meadows   CIBC Imperial Service\n\nMary Jane Wilson   Wilson Rasmussen LLP\n\n \n\nNot-for-Profit Leader\n\n \n\nMaryAnne Connor   NightShift Street Ministries Society\n\nKaren Reid Sidhu   Surrey Crime Prevention Society\n\nNeelam Sahota   DIVERSEcity Community Resources Society\n\n \n\nCorporate / Leadership\n\n \n\nCatherine Jacobs   McQuarrie Hunter LLP\n\nKathy McGarrigle   Coast Capital Savings\n\nJanette Richardson   Eaglequest Golf Coyote Creek\n\n\n\nFor more information\, email brianne@businessinsurrey.com or call 604.634.0347.
X-ALT-DESC;FMTTYPE=text/html:<span style="font-size:14px\;"><strong>Fifth Annual Surrey Women in Business Awards</strong></span><br />\n<br />\n<span style="font-family:arial\;"><span style="font-size:10.0pt\;"><font face="Arial\, Helvetica\, sans-serif"><span><font>Celebrate the achievements of Women in Business at the 5th Annual Surrey Women in Business Awards\, featuring keynote speaker Marcella Szel\, TransLink&#39\;s new Board Chair\, and MC Steve Darling! </font></span></font>This event\, taking place on March 12\, 2014\, recognizes the hard work of Surrey&rsquo\;s businesswomen and their contributions to the community\, in </span></span><span style="font-family:arial\;"><span style="font-size:10.0pt\;">four award categories: </span></span>\n\n<ul>\n	<li><span style="font-family:arial\;"><span style="font-size:10.0pt\;">Entrepreneur</span></span></li>\n	<li><span style="font-family:arial\;"><span style="font-size:10.0pt\;">Corporate/Leadership</span></span></li>\n	<li><span style="font-family:arial\;"><span style="font-size:10.0pt\;">Professional</span></span></li>\n	<li><span style="font-family:arial\;"><span style="font-size:10.0pt\;">Not-for-Profit Leader</span></span></li>\n</ul>\n<br />\n<span style="font-family:arial\;"><span style="font-size:10.0pt\;">The finalists are <em>(in alphabetical order by last name):</em></span></span><br />\n&nbsp\;<br />\n<strong><u><span style="color:#222222\;"><span style="font-family:arial\;"><span style="font-size:10.0pt\;">Entrepreneur</span></span></span></u></strong><br />\n&nbsp\;<br />\n<span style="color:#222222\;"><span style="font-family:arial\;"><span style="font-size:10.0pt\;">Susan Bains &ndash\; Holistic HR</span></span></span><br />\n<span style="color:#222222\;"><span style="font-family:arial\;"><span style="font-size:10.0pt\;">Tracy Bell &ndash\; La Belle Fleur Floral Boutique</span></span></span><br />\n<span style="color:#222222\;"><span style="font-family:arial\;"><span style="font-size:10.0pt\;">Chandra Blouin and Sherry Jacobi &ndash\; Studiothink</span></span></span><br />\n&nbsp\;<br />\n<strong><u><span style="color:#222222\;"><span style="font-family:arial\;"><span style="font-size:10.0pt\;">Professional</span></span></span></u></strong><br />\n&nbsp\;<br />\n<span style="color:#222222\;"><span style="font-family:arial\;"><span style="font-size:10.0pt\;">Tara Britnell &ndash\; Hamilton Duncan Armstrong &amp\; Stewart</span></span></span><br />\n<span style="color:#222222\;"><span style="font-family:arial\;"><span style="font-size:10.0pt\;">Penny Meadows &ndash\; CIBC Imperial Service</span></span></span><br />\n<span style="color:#222222\;"><span style="font-family:arial\;"><span style="font-size:10.0pt\;">Mary Jane Wilson &ndash\; Wilson Rasmussen LLP</span></span></span><br />\n&nbsp\;<br />\n<strong><u><span style="color:#222222\;"><span style="font-family:arial\;"><span style="font-size:10.0pt\;">Not-for-Profit Leader</span></span></span></u></strong><br />\n&nbsp\;<br />\n<span style="color:#222222\;"><span style="font-family:arial\;"><span style="font-size:10.0pt\;">MaryAnne Connor &ndash\; NightShift Street Ministries Society</span></span></span><br />\n<span style="color:#222222\;"><span style="font-family:arial\;"><span style="font-size:10.0pt\;">Karen Reid Sidhu &ndash\; Surrey Crime Prevention Society</span></span></span><br />\n<span style="color:#222222\;"><span style="font-family:arial\;"><span style="font-size:10.0pt\;">Neelam Sahota &ndash\; DIVERSEcity Community Resources Society</span></span></span><br />\n&nbsp\;<br />\n<strong><u><span style="color:#222222\;"><span style="font-family:arial\;"><span style="font-size:10.0pt\;">Corporate / Leadership</span></span></span></u></strong><br />\n&nbsp\;<br />\n<span style="color:#222222\;"><span style="font-family:arial\;"><span style="font-size:10.0pt\;">Catherine Jacobs &ndash\; McQuarrie Hunter LLP</span></span></span><br />\n<span style="color:#222222\;"><span style="font-family:arial\;"><span style="font-size:10.0pt\;">Kathy McGarrigle &ndash\; Coast Capital Savings</span></span></span><br />\n<span style="color:#222222\;"><span style="font-family:arial\;"><span style="font-size:10.0pt\;">Janette Richardson &ndash\; Eaglequest Golf Coyote Creek</span></span></span><br />\n<br />\n<span style="font-family:arial\;"><span style="font-size:10.0pt\;">For more information\, email brianne@businessinsurrey.com or call 604.634.0347.</span></span>
LOCATION:Sheraton Vancouver Guildford Hotel (15269 104 Avenue\, Surrey)
UID:e.749.2410
SEQUENCE:3
DTSTAMP:20260426T011307Z
URL:https://business.swrbot.com/events/details/march-12-2014-women-in-business-awards-03-12-2014-2410
END:VEVENT

END:VCALENDAR
