BEGIN:VCALENDAR
VERSION:2.0
PRODID:-//ChamberMaster//Event Calendar 2.0//EN
METHOD:PUBLISH
X-PUBLISHED-TTL:P3D
REFRESH-INTERVAL:P3D
CALSCALE:GREGORIAN
BEGIN:VEVENT
DTSTART:20150312T230000Z
DTEND:20150313T010000Z
X-MICROSOFT-CDO-ALLDAYEVENT:FALSE
SUMMARY:March 12\, 2015 - Surrey Transportation Town Hall Forum
DESCRIPTION:SURREY TRANSPORTATION TOWN HALL FORUMS\n\nDowntown Surrey\n\n\n\nOrganized by the Downtown Surrey BIA\n\nVOTING YES FOR TRANSPORTATION IMPROVEMENTS IN SURREY TO SUPPORT SURREY'S ECONOMY
X-ALT-DESC;FMTTYPE=text/html:SURREY TRANSPORTATION TOWN HALL FORUMS<br />\nDowntown Surrey<br />\n<br />\nOrganized by the Downtown Surrey BIA<br />\nVOTING YES FOR TRANSPORTATION IMPROVEMENTS IN SURREY TO SUPPORT SURREY&rsquo\;S ECONOMY
LOCATION:Chuck Bailey Rec. Centre 113458 107 Ave Surrey\, BC
UID:e.749.3323
SEQUENCE:3
DTSTAMP:20260423T104027Z
URL:https://business.swrbot.com/events/details/march-12-2015-surrey-transportation-town-hall-forum-03-12-2015-3323
END:VEVENT

END:VCALENDAR
