BEGIN:VCALENDAR
VERSION:2.0
PRODID:-//ChamberMaster//Event Calendar 2.0//EN
METHOD:PUBLISH
X-PUBLISHED-TTL:P3D
REFRESH-INTERVAL:P3D
CALSCALE:GREGORIAN
BEGIN:VEVENT
DTSTART:20140313T150000Z
DTEND:20140313T170000Z
X-MICROSOFT-CDO-ALLDAYEVENT:FALSE
SUMMARY:March 13\, 2014 - Change Management Part 2 - Conflict Management
DESCRIPTION:Change Management\n\nA Workshop Series\n\n\n\nManaging change in an organization is strategic.  This workshop series is designed to help you and your organization effectively handle situations of change by understanding how to lead your staff in a way they will be receptive to.  Discover how to handle resistance and how to make the best decision for your business.\n\n\n\nAre you passive or aggressive?  We naturally deal with conflict and have preference to do what is normal to us.  Often our natural way of dealing with conflict is to either run from the situation or fight the person we are dealing with.  In reality neither of these responses yield results and there is no happy medium.  We must implement a third behaviour that has nothing to do with being passive or aggressive.  Come learn how to Manage Conflict leaving everyone in your business feeling like a winner!
X-ALT-DESC;FMTTYPE=text/html:<strong>Change Management</strong><br />\nA Workshop Series<br />\n<br />\nManaging change in an organization is strategic.&nbsp\; This workshop series is designed to help you and your organization effectively handle situations of change by understanding how to lead your staff in a way they will be receptive to.&nbsp\; Discover how to handle resistance and how to make the best decision for your business.<br />\n<br />\nAre you passive or aggressive?&nbsp\; We naturally deal with conflict and have preference to do what is normal to us.&nbsp\; Often our natural way of dealing with conflict is to either run from the situation or fight the person we are dealing with.&nbsp\; In reality neither of these responses yield results and there is no happy medium.&nbsp\; We must implement a third behaviour that has nothing to do with being passive or aggressive.&nbsp\; Come learn how to Manage Conflict leaving everyone in your business feeling like a winner!
LOCATION:Surrey Board of Trade Conference Room 101 - 14439 104th Ave\, Surrey
UID:e.749.2564
SEQUENCE:3
DTSTAMP:20260425T235336Z
URL:https://business.swrbot.com/events/details/march-13-2014-change-management-part-2-conflict-management-03-13-2014-2564
END:VEVENT

END:VCALENDAR
