BEGIN:VCALENDAR
VERSION:2.0
PRODID:-//ChamberMaster//Event Calendar 2.0//EN
METHOD:PUBLISH
X-PUBLISHED-TTL:P3D
REFRESH-INTERVAL:P3D
CALSCALE:GREGORIAN
BEGIN:VEVENT
DTSTART:20190314T010000Z
DTEND:20190314T020000Z
X-MICROSOFT-CDO-ALLDAYEVENT:FALSE
SUMMARY:March 13\, 2019 - Newton Talks: Community Savings Newton
DESCRIPTION:PRESENTED BY: NEWTON BIA & SBOT\n\nThis month: Councillor Brenda Locke\, City of Surrey\n\n\n\nTopic: Social Infrastructure in Surrey and Specifically Homelessness\n\n\n\nDo you have questions and concerns about what's happening in the Newton Town Centre? Looking for a chance to connect with other businesses and organization in the town centre? Newton Talks is just the thing for you!\n\n\n\nNewton Talks is a monthly networking forum for the business community to establish a voice for Newton that improves business opportunities\, revitalize the area\, and creates a sustainable future for the community. Each month the discussion will focus on a different area of concern. This will be a open forum for you to bring up your questions and/or concerns regarding the Newton Town Centre.\n\n\n\nSpace is limited. Register early!
X-ALT-DESC;FMTTYPE=text/html:<p><span style="font-size:14px\;"><strong>PRESENTED BY: NEWTON BIA &amp\; SBOT<br />\nThis month: </strong>Councillor Brenda Locke\, City of Surrey</span><br />\n<br />\n<strong>Topic:</strong> Social Infrastructure in Surrey and Specifically Homelessness<br />\n<br />\nDo you have questions and concerns about what&#39\;s happening in the Newton Town Centre? Looking for a chance to connect with other businesses and organization in the town centre? Newton Talks is just the thing for you!<br />\n<br />\n<strong>Newton Talks</strong> is a monthly networking forum for the business community to establish a voice for Newton that improves business opportunities\, revitalize the area\, and creates a sustainable future for the community. Each month the discussion will focus on a different area of concern. This will be a open forum for you to bring up your questions and/or concerns regarding the Newton Town Centre.<br />\n<br />\n<strong>Space is limited. Register early! </strong></p>\n
LOCATION:Community Savings Credit Union 900-7380 King George Blvd Surrey\, BC V3W 5A5
UID:e.749.10202
SEQUENCE:3
DTSTAMP:20260420T230746Z
URL:https://business.swrbot.com/events/details/march-13-2019-newton-talks-community-savings-newton-03-13-2019-10202
END:VEVENT

END:VCALENDAR
