BEGIN:VCALENDAR
VERSION:2.0
PRODID:-//ChamberMaster//Event Calendar 2.0//EN
METHOD:PUBLISH
X-PUBLISHED-TTL:P3D
REFRESH-INTERVAL:P3D
CALSCALE:GREGORIAN
BEGIN:VEVENT
DTSTART:20180314T144500Z
DTEND:20180314T170000Z
X-MICROSOFT-CDO-ALLDAYEVENT:FALSE
SUMMARY:March 14\, 2018 - Accountability: The Science of Human Performance - Workshop
DESCRIPTION:Avoiding conflict and creating a culture where being liked is more important than being respected  can lead to lack of accountability in a team. As a result\, staff produce low-quality work\, miss deadlines\, and engage in passive-aggressive conflict\, causing team productivity to plummet. \n\nParticipants will learn how to:\n\n\n\n	Hold people accountable so that it inspires them to be eager to come to work and motivated to perform\n	Work the "Six Steps to Painless Accountability Improvement"\n	Hold people accountable so both individuals and teams come together and create a sense of belonging that produces the right results.\n\n\n\nThis workshop is facilitated by Dr. Jim Sellner\, EVP\, People Analytics and Talent Activation for Vivo Team Development. \n\n \nDr. Jim Sellner's sole purpose is to Bring out the Genius in People. Rarely do you find a man as energized by his 40 years experience of working with over 3\,500 entrepreneurs and business leaders. What makes Jim different is his no-nonsense approach\, his ability to keep things simple and encourage people to consider what they are doing and how a change in behaviour may get a significantly better result. \n\n \nJim is an engaging speaker\, with a wealth of experience\, sense of humour and participatory style who cuts through the noise and focuses on making a lasting impact. He has authored more than 1600 articles and 3 eBooks including "Leadership for Einsteins: Bringing Out the Genius in People While Becoming Great Ourselves."
X-ALT-DESC;FMTTYPE=text/html:<span style="color:rgb(10\,10\,10)\;font-family:Roboto\,Univers\,&quot\;Helvetica Neue&quot\;\,Helvetica\,Arial\,sans-serif\;font-style:normal\;font-variant-ligatures:normal\;font-variant-caps:normal\;font-weight:400\;letter-spacing:normal\;text-align:left\;text-indent:0px\;text-transform:none\;white-space:normal\;word-spacing:0px\;background-color:rgb(255\,255\,255)\;text-decoration-style:initial\;text-decoration-color:initial\;float:none\;display:inline">Avoiding conflict and creating a culture where being liked is more important than being respected&nbsp\; can lead to lack of accountability in a team. As a result\, staff produce low-quality work\, miss deadlines\, and engage in passive-aggressive conflict\, causing team productivity to plummet.&nbsp\;</span>\n<div>\n<div style="color:rgb(34\,34\,34)\;font-family:arial\,sans-serif\;font-style:normal\;font-variant-ligatures:normal\;font-variant-caps:normal\;font-weight:400\;letter-spacing:normal\;text-align:start\;text-indent:0px\;text-transform:none\;white-space:normal\;word-spacing:0px\;background-color:rgb(255\,255\,255)\;text-decoration-style:initial\;text-decoration-color:initial">Participants will learn how to:</div>\n\n<div style="color:rgb(34\,34\,34)\;font-family:arial\,sans-serif\;font-style:normal\;font-variant-ligatures:normal\;font-variant-caps:normal\;font-weight:400\;letter-spacing:normal\;text-align:start\;text-indent:0px\;text-transform:none\;white-space:normal\;word-spacing:0px\;background-color:rgb(255\,255\,255)\;text-decoration-style:initial\;text-decoration-color:initial">\n<ul>\n	<li>Hold people accountable so that it inspires them to be eager to come to work and motivated to perform</li>\n	<li>Work the &ldquo\;Six Steps to Painless Accountability Improvement&rdquo\;</li>\n	<li>Hold people accountable so both individuals and teams come together and create a sense of belonging that produces the right results.</li>\n</ul>\n</div>\n\n<div style="color:rgb(34\,34\,34)\;font-family:arial\,sans-serif\;font-style:normal\;font-variant-ligatures:normal\;font-variant-caps:normal\;font-weight:400\;letter-spacing:normal\;text-align:start\;text-indent:0px\;text-transform:none\;white-space:normal\;word-spacing:0px\;background-color:rgb(255\,255\,255)\;text-decoration-style:initial\;text-decoration-color:initial">This workshop is facilitated by Dr. Jim Sellner\, EVP\, People Analytics and Talent Activation for&nbsp\;Vivo Team Development.&nbsp\;</div>\n\n<div style="color:rgb(34\,34\,34)\;font-family:arial\,sans-serif\;font-style:normal\;font-variant-ligatures:normal\;font-variant-caps:normal\;font-weight:400\;letter-spacing:normal\;text-align:start\;text-indent:0px\;text-transform:none\;white-space:normal\;word-spacing:0px\;background-color:rgb(255\,255\,255)\;text-decoration-style:initial\;text-decoration-color:initial">&nbsp\;</div>\n<span style="color:rgb(34\,34\,34)\;font-family:arial\,sans-serif\;font-size:small\;font-variant-ligatures:normal\;font-variant-caps:normal\;font-weight:400\;letter-spacing:normal\;text-align:start\;text-indent:0px\;text-transform:none\;white-space:normal\;word-spacing:0px\;background-color:rgb(255\,255\,255)\;text-decoration-style:initial\;text-decoration-color:initial\;float:none\;display:inline"><i>Dr. Jim Sellner&rsquo\;s sole purpose is to Bring out the Genius in People. Rarely do you find a man as energized by his 40 years experience of working with over 3\,500 entrepreneurs and business leaders. What makes Jim different is his no-nonsense approach\, his ability to keep things simple and encourage people to consider what they are doing and how a change in behaviour may get a significantly better result.&nbsp\;</i></span></div>\n\n<div>&nbsp\;</div>\n<span style="color:rgb(34\,34\,34)\;font-family:arial\,sans-serif\;font-size:small\;font-variant-ligatures:normal\;font-variant-caps:normal\;font-weight:400\;letter-spacing:normal\;text-align:start\;text-indent:0px\;text-transform:none\;white-space:normal\;word-spacing:0px\;background-color:rgb(255\,255\,255)\;text-decoration-style:initial\;text-decoration-color:initial\;float:none\;display:inline"><i>Jim is an engaging speaker\, with a wealth of experience\, sense of humour and participatory style who cuts through the noise and focuses on making a lasting impact. He has authored more than 1600 articles and 3 eBooks including &ldquo\;Leadership for Einsteins: Bringing Out the Genius in People While Becoming Great Ourselves.&rdquo\;</i></span>\n\n<div style="color:rgb(34\,34\,34)\;font-family:arial\,sans-serif\;font-variant-ligatures:normal\;font-variant-caps:normal\;font-weight:400\;letter-spacing:normal\;text-align:start\;text-indent:0px\;text-transform:none\;white-space:normal\;word-spacing:0px\;background-color:rgb(255\,255\,255)\;text-decoration-style:initial\;text-decoration-color:initial">&nbsp\;</div>\n\n<div style="color:rgb(34\,34\,34)\;font-family:arial\,sans-serif\;font-style:normal\;font-variant-ligatures:normal\;font-variant-caps:normal\;font-weight:400\;letter-spacing:normal\;text-align:start\;text-indent:0px\;text-transform:none\;white-space:normal\;word-spacing:0px\;background-color:rgb(255\,255\,255)\;text-decoration-style:initial\;text-decoration-color:initial">&nbsp\;</div>\n
LOCATION:Surrey Board of Trade Conference Room 101-14439 104 Avenue\, Surrey
UID:e.749.6728
SEQUENCE:3
DTSTAMP:20260421T130054Z
URL:https://business.swrbot.com/events/details/march-14-2018-accountability-the-science-of-human-performance-workshop-03-14-2018-6728
END:VEVENT

END:VCALENDAR
