BEGIN:VCALENDAR
VERSION:2.0
PRODID:-//ChamberMaster//Event Calendar 2.0//EN
METHOD:PUBLISH
X-PUBLISHED-TTL:P3D
REFRESH-INTERVAL:P3D
CALSCALE:GREGORIAN
BEGIN:VEVENT
DTSTART:20150318T010000Z
DTEND:20150318T020000Z
X-MICROSOFT-CDO-ALLDAYEVENT:FALSE
SUMMARY:March 17\, 2015 - Surrey Transportation Town Hall Forum
DESCRIPTION:SURREY TRANSPORTATION TOWN HALL FORUMS\n\nNEWTON\n\n\n\nOrganized by the Newton BIA\n\nVOTING YES FOR TRANSPORTATION IMPROVEMENTS IN SURREY TO SUPPORT SURREY'S ECONOMY
X-ALT-DESC;FMTTYPE=text/html:SURREY TRANSPORTATION TOWN HALL FORUMS<br />\nNEWTON<br />\n<br />\nOrganized by the Newton BIA<br />\nVOTING YES FOR TRANSPORTATION IMPROVEMENTS IN SURREY TO SUPPORT SURREY&rsquo\;S ECONOMY
LOCATION:Newton Senior's Centre 13775 70 Ave Surrey\, BC
UID:e.749.3322
SEQUENCE:3
DTSTAMP:20260423T101453Z
URL:https://business.swrbot.com/events/details/march-17-2015-surrey-transportation-town-hall-forum-03-17-2015-3322
END:VEVENT

END:VCALENDAR
