BEGIN:VCALENDAR
VERSION:2.0
PRODID:-//ChamberMaster//Event Calendar 2.0//EN
METHOD:PUBLISH
X-PUBLISHED-TTL:P3D
REFRESH-INTERVAL:P3D
CALSCALE:GREGORIAN
BEGIN:VEVENT
DTSTART:20140319T150000Z
DTEND:20140319T170000Z
X-MICROSOFT-CDO-ALLDAYEVENT:FALSE
SUMMARY:March 19\, 2014 - Change Management Part 3 - Problem Solving
DESCRIPTION:Change Management\n\nA Workshop Series\n\n\n\nManaging change in an organization is strategic.  This workshop series is designed to help you and your organization effectively handle situations of change by understanding how to lead your staff in a way they will be receptive to.  Discover how to handle resistance and how to make the best decision for your business.\n\n\n\nAre you frustrated with huge barriers in your business and no direction on which solution is right?  Many of us run a reactive business and make decisions without processing what the best solution is.  Come learn the set process allowing you to solve problems confidently leaving out the guess work!
X-ALT-DESC;FMTTYPE=text/html:<strong>Change Management</strong><br />\nA Workshop Series<br />\n<br />\nManaging change in an organization is strategic.&nbsp\; This workshop series is designed to help you and your organization effectively handle situations of change by understanding how to lead your staff in a way they will be receptive to.&nbsp\; Discover how to handle resistance and how to make the best decision for your business.<br />\n<br />\nAre you frustrated with huge barriers in your business and no direction on which solution is right?&nbsp\; Many of us run a reactive business and make decisions without processing what the best solution is.&nbsp\; Come learn the set process allowing you to solve problems confidently leaving out the guess work!
LOCATION:Surrey Board of Trade Conference Room 101 - 14439 104th Ave\, Surrey
UID:e.749.2565
SEQUENCE:3
DTSTAMP:20260425T235049Z
URL:https://business.swrbot.com/events/details/march-19-2014-change-management-part-3-problem-solving-03-19-2014-2565
END:VEVENT

END:VCALENDAR
