BEGIN:VCALENDAR
VERSION:2.0
PRODID:-//ChamberMaster//Event Calendar 2.0//EN
METHOD:PUBLISH
X-PUBLISHED-TTL:P3D
REFRESH-INTERVAL:P3D
CALSCALE:GREGORIAN
BEGIN:VEVENT
DTSTART:20140327T003000Z
DTEND:20140327T023000Z
X-MICROSOFT-CDO-ALLDAYEVENT:FALSE
SUMMARY:March 26\, 2014-Business to Business Networking Reception @ Surrey Hearing Care
DESCRIPTION:Business to Business Networking Reception\n\n\n\nHosted by Surrey Hearing Care - Guildford!\n\n\n\nNetwork with your fellow members while celebrating the opening of Surrey Hearing Care's third location!  Surrey Hearing Care dispenses and services a wide variety of hearing aids and are certified by Non-Insured Health benefits\, WorkSafeBC (Fleetwood location only) and Veterans Affairs to test\, dispense and repair hearing aids to their clientele.  Learn more about how they can help you and your employees!\n\n\n\nEnjoy delicious appetizers & refreshments\, and tour the new Guildford location!\n\n\n\nWin Great Prizes!  Make new business contacts!
X-ALT-DESC;FMTTYPE=text/html:<strong>Business to Business Networking Reception</strong><br />\n<br />\nHosted by Surrey Hearing Care - Guildford!<br />\n<br />\nNetwork with your fellow members while celebrating the opening of Surrey Hearing Care&#39\;s third location!&nbsp\; Surrey Hearing Care dispenses and services a wide variety of hearing aids and are certified by Non-Insured Health benefits\, WorkSafeBC (Fleetwood location only) and Veterans Affairs to test\, dispense and repair hearing aids to their clientele.&nbsp\; Learn more about how they can help you and your employees!<br />\n<br />\nEnjoy delicious appetizers &amp\; refreshments\, and tour the new Guildford location!<br />\n<br />\n<strong>Win Great Prizes!&nbsp\; Make new business contacts!</strong><br />\n<br />\n<br />\n<br />\n&nbsp\;
LOCATION:Surrey Hearing Care - Guildford 105-15277 100 Avenue\, Surrey (TNT - Impact Plaza)
UID:e.749.2560
SEQUENCE:3
DTSTAMP:20260425T235431Z
URL:https://business.swrbot.com/events/details/march-26-2014-business-to-business-networking-reception-surrey-hearing-care-03-26-2014-2560
END:VEVENT

END:VCALENDAR
