BEGIN:VCALENDAR
VERSION:2.0
PRODID:-//ChamberMaster//Event Calendar 2.0//EN
METHOD:PUBLISH
X-PUBLISHED-TTL:P3D
REFRESH-INTERVAL:P3D
CALSCALE:GREGORIAN
BEGIN:VEVENT
DTSTART;VALUE=DATE:20100303
DTEND;VALUE=DATE:20100304
TRANSP:TRANSPARENT
X-MICROSOFT-CDO-ALLDAYEVENT:TRUE
SUMMARY:March 3\, 2010 - Breakfast in the City
DESCRIPTION:
X-ALT-DESC;FMTTYPE=text/html:
LOCATION:
UID:e.749.1578
SEQUENCE:3
DTSTAMP:20260423T010318Z
URL:https://business.swrbot.com/events/details/march-3-2010-breakfast-in-the-city-03-03-2010-1578
END:VEVENT

END:VCALENDAR
