BEGIN:VCALENDAR
VERSION:2.0
PRODID:-//ChamberMaster//Event Calendar 2.0//EN
METHOD:PUBLISH
X-PUBLISHED-TTL:P3D
REFRESH-INTERVAL:P3D
CALSCALE:GREGORIAN
BEGIN:VEVENT
DTSTART;VALUE=DATE:20100330
DTEND;VALUE=DATE:20100331
TRANSP:TRANSPARENT
X-MICROSOFT-CDO-ALLDAYEVENT:TRUE
SUMMARY:March 30\, 2010 - HST and Your Business Workshop
DESCRIPTION:
X-ALT-DESC;FMTTYPE=text/html:
LOCATION:
UID:e.749.1591
SEQUENCE:3
DTSTAMP:20260423T010232Z
URL:https://business.swrbot.com/events/details/march-30-2010-hst-and-your-business-workshop-03-30-2010-1591
END:VEVENT

END:VCALENDAR
