BEGIN:VCALENDAR
VERSION:2.0
PRODID:-//ChamberMaster//Event Calendar 2.0//EN
METHOD:PUBLISH
X-PUBLISHED-TTL:P3D
REFRESH-INTERVAL:P3D
CALSCALE:GREGORIAN
BEGIN:VEVENT
DTSTART:20160330T144500Z
DTEND:20160330T170000Z
X-MICROSOFT-CDO-ALLDAYEVENT:FALSE
SUMMARY:March 30\, 2016 - Understanding Business Communications
DESCRIPTION:Having effective and clear communication styles and tools are key for a successful business. Attend this interactive workshop to learn more about  the different ways of communicating and how to use them in a way that is beneficial to achieve your organization's goals. Review emails\, letters\, one-on-one conversations\, group discussions\, and social media. Understand how subtle methods like tone of voice\, body language\, and social signaling impact the way you are interpreted. Finally\, learn about the challenges in communicating and how to overcome them.\n\n\n\nThis workshop is facilitated by Beatrice Wong\, Simon Fraser University.
X-ALT-DESC;FMTTYPE=text/html:Having effective and clear communication styles and tools are key for a successful business. Attend this interactive workshop to learn more about&nbsp\; the different ways of communicating and how to use them in a way that is beneficial to achieve your organization&#39\;s goals. Review emails\, letters\, one-on-one conversations\, group discussions\, and social media. Understand how subtle methods like tone of voice\, body language\, and social signaling impact the way you are interpreted. Finally\, learn about the challenges in communicating and how to overcome them.<br />\n<br />\nThis workshop is facilitated by Beatrice Wong\, Simon Fraser University.
LOCATION:Surrey Board of Trade Conference Room (101 - 14439 104 Avenue\, Surrey)
UID:e.749.4774
SEQUENCE:3
DTSTAMP:20260424T051437Z
URL:https://business.swrbot.com/events/details/march-30-2016-understanding-business-communications-03-30-2016-4774
END:VEVENT

END:VCALENDAR
