BEGIN:VCALENDAR
VERSION:2.0
PRODID:-//ChamberMaster//Event Calendar 2.0//EN
METHOD:PUBLISH
X-PUBLISHED-TTL:P3D
REFRESH-INTERVAL:P3D
CALSCALE:GREGORIAN
BEGIN:VEVENT
DTSTART:20170330T144500Z
DTEND:20170330T170000Z
X-MICROSOFT-CDO-ALLDAYEVENT:FALSE
SUMMARY:March 30\, 2017 - QuickBooks for Business
DESCRIPTION:Does you business use QuickBooks to manage your accounts but want to learn more? Do you need an simple accounting software for your business? Attend this session to learn how to optimize and enhance your use of QuickBooks. This session will cover how to:\n\n\n	Maximize QuickBooks and customize it for your business.\n	Automate key functions to save time.\n	Set up the chart of accounts\, make items and services\, and manage customer and vendor lists.\n	Customize invoices\, purchase orders\, and sales receipts.\n	Produce financial reports to measure business performance.\n	Stay on top of receivables and payables.\n	Automatically create invoices and receive credit card payments without any data entry.\n	Manage payroll remittances and employee information.\n	Simplify expense entry and account reconciliation   no more shoeboxes or manual data entry of receipts!\n	Quickly and easily audit-proof your business by ensuring that you have all required documents.\n	Compare your business' performance to your competitors in the same revenue range and region.\n	Create budgets and annual plans.\n	Manage and track your inventory.\n	Set your business up for success so that your annual tax preparation is accurate\, timely\, and frustration free.\n	Should you convert from QuickBooks Desktop to QuickBooks Online?\n\nThis session is facilitated by Wade Farquhar of Lean Teams.
X-ALT-DESC;FMTTYPE=text/html:<p>Does you business use QuickBooks to manage your accounts but want to learn more? Do you need an simple accounting software for your business? Attend this session to learn how to optimize and enhance your use of QuickBooks. This session will cover how to:</p>\n\n<ul>\n	<li><span lang="EN-CA" style="font-family:&quot\;arial&quot\;\,sans-serif">Maximize QuickBooks and customize it for your business.</span></li>\n	<li><span lang="EN-CA" style="font-family:&quot\;arial&quot\;\,sans-serif">Automate key functions to save time.</span></li>\n	<li><span lang="EN-CA" style="font-family:&quot\;arial&quot\;\,sans-serif">Set up the chart of accounts\, make items and services\, and manage customer and vendor lists.</span></li>\n	<li><span lang="EN-CA" style="font-family:&quot\;arial&quot\;\,sans-serif">Customize invoices\, purchase orders\, and sales receipts.</span></li>\n	<li><span lang="EN-CA" style="font-family:&quot\;arial&quot\;\,sans-serif">Produce financial reports to measure business performance.</span></li>\n	<li><span lang="EN-CA" style="font-family:&quot\;arial&quot\;\,sans-serif">Stay on top of receivables and payables.</span></li>\n	<li><span lang="EN-CA" style="font-family:&quot\;arial&quot\;\,sans-serif">Automatically create invoices and receive credit card payments without any data entry.</span></li>\n	<li><span lang="EN-CA" style="font-family:&quot\;arial&quot\;\,sans-serif">Manage payroll remittances and employee information.</span></li>\n	<li><span lang="EN-CA" style="font-family:&quot\;arial&quot\;\,sans-serif">Simplify expense entry and account reconciliation &ndash\; no more shoeboxes or manual data entry of receipts!</span></li>\n	<li><span lang="EN-CA" style="font-family:&quot\;arial&quot\;\,sans-serif">Quickly and easily audit-proof your business by ensuring that you have all required documents.</span></li>\n	<li><span lang="EN-CA" style="font-family:&quot\;arial&quot\;\,sans-serif">Compare your business&rsquo\; performance to your competitors in the same revenue range and region.</span></li>\n	<li><span lang="EN-CA" style="font-family:&quot\;arial&quot\;\,sans-serif">Create budgets and annual plans.</span></li>\n	<li><span lang="EN-CA" style="font-family:&quot\;arial&quot\;\,sans-serif">Manage and track your inventory.</span></li>\n	<li><span lang="EN-CA" style="font-family:&quot\;arial&quot\;\,sans-serif">Set your business up for success so that your annual tax preparation is accurate\, timely\, and frustration free.</span></li>\n	<li><span lang="EN-CA" style="font-family:&quot\;arial&quot\;\,sans-serif">Should you convert from QuickBooks Desktop to QuickBooks Online?</span></li>\n</ul>\n<i><b>This session is facilitated by Wade Farquhar of Lean Teams.</b></i>
LOCATION:Surrey Board of Trade 101\, 14439 104th Avenue\, Surrey
UID:e.749.5225
SEQUENCE:3
DTSTAMP:20260422T034641Z
URL:https://business.swrbot.com/events/details/march-30-2017-quickbooks-for-business-03-30-2017-5225
END:VEVENT

END:VCALENDAR
