BEGIN:VCALENDAR
VERSION:2.0
PRODID:-//ChamberMaster//Event Calendar 2.0//EN
METHOD:PUBLISH
X-PUBLISHED-TTL:P3D
REFRESH-INTERVAL:P3D
CALSCALE:GREGORIAN
BEGIN:VEVENT
DTSTART:20170331T143000Z
DTEND:20170331T163000Z
X-MICROSOFT-CDO-ALLDAYEVENT:FALSE
SUMMARY:March 31\, 2017 - Surrey Hot Topic Series: Cyber Crime and Your Business
DESCRIPTION:As a small to medium sized business\, did you know that if your system is breached and your data is comprised\, the odds of you staying in business is less than half? 60% of businesses close their doors within six months. Here's another number that should catch your attention: Each file stolen is going to cost you approximately $250. And who are your greatest threats? International espionage or in-house users? Don't know? Come to the breakfast on March 31 and ask your questions to a panel of experts.\n\n\n\nSpeakers:\n\nBDO:   Rosanne Walters\nNYIT:   Leopold de Sousa\n\nSchill Insurance:  Sarah Hanson
X-ALT-DESC;FMTTYPE=text/html:As a small to medium sized business\, did you know that if your system is breached and your data is comprised\, the odds of you staying in business is less than half? 60% of businesses close their doors within six months. Here&rsquo\;s another number that should catch your attention: Each file stolen is going to cost you approximately $250. And who are your greatest threats? International espionage or in-house users? Don&rsquo\;t know? Come to the breakfast on March 31 and ask your questions to a panel of experts.<br />\n<br />\nSpeakers:<br />\nBDO: &nbsp\; Rosanne Walters\n<div>NYIT: &nbsp\; Leopold de Sousa</div>\n\n<div>Schill Insurance: &nbsp\;Sarah Hanson</div>\n
LOCATION:Guildford Golf & Country Club 7929 152 Street\, Surrey
UID:e.749.5190
SEQUENCE:3
DTSTAMP:20260422T045519Z
URL:https://business.swrbot.com/events/details/march-31-2017-surrey-hot-topic-series-cyber-crime-and-your-business-03-31-2017-5190
END:VEVENT

END:VCALENDAR
