BEGIN:VCALENDAR
VERSION:2.0
PRODID:-//ChamberMaster//Event Calendar 2.0//EN
METHOD:PUBLISH
X-PUBLISHED-TTL:P3D
REFRESH-INTERVAL:P3D
CALSCALE:GREGORIAN
BEGIN:VEVENT
DTSTART:20140305T010000Z
DTEND:20140305T030000Z
X-MICROSOFT-CDO-ALLDAYEVENT:FALSE
SUMMARY:March 4\, 2014 - Business to Business at Seaboard Self Storage
DESCRIPTION:Business to Business Networking Reception\n\nHosted by Seaboard Self Storage!\n\n\n\nCome & discover why Seaboard Self Storage is not your average storage facility & truck park.  Safe\, simple and secure\, they offer:\n\n	\n		indoor & outdoor lockers of various sizes\n	\n		indoor & outdoor vehicular & recreational vehicle parking\n	\n		separate site for commercial truck & equipment parking\n	\n		small business package deals including office space rentals\n	\n		plus\, anything else our clients need!\n\nCome for the networking and stay for the silent Storage Auction Wars!  Valuable items will be located in storage lockers throughout the building - all proceeds will go to your charity of choice!  Enjoy delicious hors d'oeuvres and refreshments while meeting the friendly and professional staff of Seaboard Self Storage!\n\n\n\nWin Great Prizes!  Make new business contacts!
X-ALT-DESC;FMTTYPE=text/html:<strong>Business to Business Networking Reception</strong><br />\nHosted by Seaboard Self Storage!<br />\n<br />\nCome &amp\; discover why Seaboard Self Storage is not your average storage facility &amp\; truck park.&nbsp\; Safe\, simple and secure\, they offer:\n<ul>\n	<li>\n		indoor &amp\; outdoor lockers of various sizes</li>\n	<li>\n		indoor &amp\; outdoor vehicular &amp\; recreational vehicle parking</li>\n	<li>\n		separate site for commercial truck &amp\; equipment parking</li>\n	<li>\n		small business package deals including office space rentals</li>\n	<li>\n		plus\, anything else our clients need!</li>\n</ul>\nCome for the networking and stay for the silent <strong>Storage Auction Wars</strong>!&nbsp\; Valuable items will be located in storage lockers throughout the building - all proceeds will go to your charity of choice!&nbsp\; Enjoy delicious hors d&#39\;oeuvres and refreshments while meeting the friendly and professional staff of Seaboard Self Storage!<br />\n<br />\n<strong>Win Great Prizes!&nbsp\; Make new business contacts!</strong>
LOCATION:Seaboard Self Storage 12353 - 104 Ave Surrey\, BC
UID:e.749.2502
SEQUENCE:3
DTSTAMP:20260425T235509Z
URL:https://business.swrbot.com/events/details/march-4-2014-business-to-business-at-seaboard-self-storage-03-04-2014-2502
END:VEVENT

END:VCALENDAR
