BEGIN:VCALENDAR
VERSION:2.0
PRODID:-//ChamberMaster//Event Calendar 2.0//EN
METHOD:PUBLISH
X-PUBLISHED-TTL:P3D
REFRESH-INTERVAL:P3D
CALSCALE:GREGORIAN
BEGIN:VEVENT
DTSTART:20200305T013000Z
DTEND:20200305T040000Z
X-MICROSOFT-CDO-ALLDAYEVENT:FALSE
SUMMARY:March 4\, 2020 - Young Entrepreneurs' Speed Networking Night
DESCRIPTION:Are you a young or aspiring entrepreneur looking for career advice and mentorship? Perhaps you are unsure of your career path and would like the chance to explore different the different possibilities.\n\n\n\nJoin the Surrey Board of Trade for its inaugural Speed Networking Night\, where guests will have the opportunity to network and ask questions to Surrey?s top entrepreneurs and industry leaders! Learn and get connected with the best and brightest leaders from across Surrey and the Lower Mainland.\n\n\n\nWhy you need to attend:\n\n	Connect with business leaders\, mentors\, and young professionals\n	Practice networking skills in a safe and fun environment\n	Get industry and career insights\n\n\n\nHow it work:\n\nParticipants will rotate to different offices throughout the night\, each hosted by a different industry leader who will be there to answer your questions and give you exclusive career insights!
X-ALT-DESC;FMTTYPE=text/html:Are you a young or aspiring entrepreneur looking for career advice and mentorship? Perhaps you are unsure of your career path and would like the chance to explore different the different possibilities.<br />\n<br />\nJoin the Surrey Board of Trade for its inaugural Speed Networking Night\, where guests will have the opportunity to network and ask questions to Surrey?s top entrepreneurs and industry leaders! Learn and get connected with the best and brightest leaders from across Surrey and the Lower Mainland.<br />\n<br />\n<strong>Why you need to attend:</strong>\n<ul>\n	<li>Connect with business leaders\, mentors\, and young professionals</li>\n	<li>Practice networking skills in a safe and fun environment</li>\n	<li>Get industry and career insights</li>\n</ul>\n<br />\n<strong>How it work:</strong><br />\nParticipants will rotate to different offices throughout the night\, each hosted by a different industry leader who will be there to answer your questions and give you exclusive career insights!
LOCATION:Surrey Board of Trade 101 - 14439 104 Avenue\, Surrey
UID:e.749.10912
SEQUENCE:3
DTSTAMP:20260420T052733Z
URL:https://business.swrbot.com/events/details/march-4-2020-young-entrepreneurs-speed-networking-night-03-04-2020-10912
END:VEVENT

END:VCALENDAR
