BEGIN:VCALENDAR
VERSION:2.0
PRODID:-//ChamberMaster//Event Calendar 2.0//EN
METHOD:PUBLISH
X-PUBLISHED-TTL:P3D
REFRESH-INTERVAL:P3D
CALSCALE:GREGORIAN
BEGIN:VEVENT
DTSTART;VALUE=DATE:20100305
DTEND;VALUE=DATE:20100306
TRANSP:TRANSPARENT
X-MICROSOFT-CDO-ALLDAYEVENT:TRUE
SUMMARY:March 5\, '10 - Coffee with Jamie
DESCRIPTION:
X-ALT-DESC;FMTTYPE=text/html:
LOCATION:
UID:e.749.1564
SEQUENCE:3
DTSTAMP:20260423T010032Z
URL:https://business.swrbot.com/events/details/march-5-10-coffee-with-jamie-03-05-2010-1564
END:VEVENT

END:VCALENDAR
