BEGIN:VCALENDAR
VERSION:2.0
PRODID:-//ChamberMaster//Event Calendar 2.0//EN
METHOD:PUBLISH
X-PUBLISHED-TTL:P3D
REFRESH-INTERVAL:P3D
CALSCALE:GREGORIAN
BEGIN:VEVENT
DTSTART:20140305T193000Z
DTEND:20140305T213000Z
X-MICROSOFT-CDO-ALLDAYEVENT:FALSE
SUMMARY:March 5\, 2014 - Lunch with C/Supt. Bill Fordy\, Surrey RCMP
DESCRIPTION:Online registration is now closed.  If you'd like to book for this event\, please call 604-581-7130.\n\nSURREY BUSINESS LEADERS LUNCH\n\n\n\nBILL FORDY\n\nChief Superintendent of the Surrey RCMP\n\n\n\nChief Superintendent Fordy will speak to:\n\n	Hear an update on crime in Surrey\n	His plans for Surrey under his leadership of the Surrey RCMP\n	The relationship between the RCMP and Surrey's business community\n\nPLUS - an update on the results of Surrey's Crime Reduction Strategy by the City of Surrey!
X-ALT-DESC;FMTTYPE=text/html:<strong><span style="color:#FF0000\;">Online registration is now closed.&nbsp\; If you&#39\;d like to book for this event\, please call 604-581-7130.</span><br />\nSURREY BUSINESS LEADERS LUNCH<br />\n<br />\nBILL <strong>FORDY</strong></strong><br />\n<strong>Chief Superintendent of the Surrey RCMP</strong><br />\n<br />\nChief Superintendent Fordy will speak to:\n<ul>\n	<li>Hear an update on crime in Surrey</li>\n	<li>His plans for Surrey under his leadership of the Surrey RCMP</li>\n	<li>The relationship between the RCMP and Surrey&#39\;s business community</li>\n</ul>\nPLUS - an update on the results of Surrey&#39\;s Crime Reduction Strategy by the City of Surrey!<br />\n&nbsp\;
LOCATION:Sheraton Vancouver Guildford Hotel 15269 104 Avenue\, Surrey
UID:e.749.2575
SEQUENCE:3
DTSTAMP:20260425T235357Z
URL:https://business.swrbot.com/events/details/march-5-2014-lunch-with-c-supt-bill-fordy-surrey-rcmp-03-05-2014-2575
END:VEVENT

END:VCALENDAR
