BEGIN:VCALENDAR
VERSION:2.0
PRODID:-//ChamberMaster//Event Calendar 2.0//EN
METHOD:PUBLISH
X-PUBLISHED-TTL:P3D
REFRESH-INTERVAL:P3D
CALSCALE:GREGORIAN
BEGIN:VEVENT
DTSTART:20140306T153000Z
DTEND:20140306T173000Z
X-MICROSOFT-CDO-ALLDAYEVENT:FALSE
SUMMARY:March 6\, 2014 - Business Fraud Awareness Dialogue Part Three
DESCRIPTION:Business Fraud Awareness Dialogue\n\nPart Three\n\n\n\nHear from Industry panel experts on what is happening now and how you can prevent unnecessary financial loss for your business and staff.\n\n\n\nFRAUDS ENCOUNTERED BY SMALL BUSINESS\n\nHear about the trend of cash-back frauds using Point-of-Sale machines\, and how to protect your business from it.\n\nCst AJ Prassad and Cst. Amber Briggs\n\nEconomic Crime Unit\, Surrey RCMP\n\n\n\nRECOGNIZING A FRAUDSTER\n\nDiscover the profile of a fraudster\, behavioural red flags and how much your company really losses while fraud is taking place.\n\nRosanne Walters-Terhart\n\nBDO Canada\n\n\n\nPROTECTION OF ELECTRONIC INFORMATION IN BUSINESS\n\nHear about development of a Best Practice Code\, designed for the Surrey Board of Trade Crime and Justice Team.\n\nGeorge Greenwood\n\nCanadian Identity Resources Inc.
X-ALT-DESC;FMTTYPE=text/html:<strong>Business Fraud Awareness Dialogue<br />\nPart Three</strong><br />\n<br />\nHear from Industry panel experts on what is happening now and how you can prevent unnecessary financial loss for your business and staff.<br />\n<br />\n<strong>FRAUDS ENCOUNTERED BY SMALL BUSINESS</strong><br />\nHear about the trend of cash-back frauds using Point-of-Sale machines\, and how to protect your business from it.<br />\n<strong>Cst AJ Prassad and Cst. Amber Briggs<br />\nEconomic Crime Unit\, Surrey RCMP</strong><br />\n<br />\n<strong>RECOGNIZING A FRAUDSTER</strong><br />\nDiscover the profile of a fraudster\, behavioural red flags and how much your company really losses while fraud is taking place.<br />\n<strong>Rosanne Walters-Terhart<br />\nBDO Canada</strong><br />\n<br />\n<strong>PROTECTION OF ELECTRONIC INFORMATION IN BUSINESS</strong><br />\nHear about development of a Best Practice Code\, designed for the Surrey Board of Trade Crime and Justice Team.<br />\n<strong>George Greenwood<br />\nCanadian Identity Resources Inc.</strong><br />\n<br />\n&nbsp\;
LOCATION:Eaglequest Golf Course 7778 152 Street Surrey\, BC
UID:e.749.2409
SEQUENCE:3
DTSTAMP:20260426T011104Z
URL:https://business.swrbot.com/events/details/march-6-2014-business-fraud-awareness-dialogue-part-three-03-06-2014-2409
END:VEVENT

END:VCALENDAR
