BEGIN:VCALENDAR
VERSION:2.0
PRODID:-//ChamberMaster//Event Calendar 2.0//EN
METHOD:PUBLISH
X-PUBLISHED-TTL:P3D
REFRESH-INTERVAL:P3D
CALSCALE:GREGORIAN
BEGIN:VEVENT
DTSTART:20140307T193000Z
DTEND:20140307T213000Z
X-MICROSOFT-CDO-ALLDAYEVENT:FALSE
SUMMARY:March 7\, 2014 - FortisBC Pipeline Upgrades
DESCRIPTION:FortisBC Pipeline Upgrades\n\nPipeline Industry Series - Part 4\n\n\n\nKeynote Speakers:\n\n\n\nGORD SCHOBERG\n\nSenior Manager of Community and Aboriginal Relations\n\n\n\nJohn Quinn\n\nEngineering Supervisor - Pipelines\n\n\n\nFortisBC is beginning to plan for the upgrade of several pipelines in the Lower Mainland\, including Surrey.  Hear what their plans entail and how it will effect your business community.  FortisBC wants to engage with community and business groups\, municipalities\, political officials and others at this early stage to ensure there is a good understanding of work FortisBC is embarking on.  FortisBC will answer questions and be guided by feedback received at this event.\n\n\n\nThis event will also feature a summary report of the HR Solutions for Immigrant Talent Initiative\, which won gold at the Canadian Chamber of Commerce AGM.
X-ALT-DESC;FMTTYPE=text/html:<strong>FortisBC</strong> <strong>Pipeline Upgrades</strong><br />\nPipeline Industry Series - Part 4<br />\n<br />\nKeynote Speakers:<br />\n<br />\n<strong>GORD SCHOBERG</strong><br />\nSenior Manager of Community and Aboriginal Relations<br />\n<br />\n<strong>John Quinn</strong><br />\nEngineering Supervisor - Pipelines<br />\n<br />\nFortisBC is beginning to plan for the upgrade of several pipelines in the Lower Mainland\, including Surrey.&nbsp\; Hear what their plans entail and how it will effect your business community.&nbsp\; FortisBC wants to engage with community and business groups\, municipalities\, political officials and others at this early stage to ensure there is a good understanding of work FortisBC is embarking on.&nbsp\; FortisBC will answer questions and be guided by feedback received at this event.<br />\n<br />\nThis event will also feature a summary report of the HR Solutions for Immigrant Talent Initiative\, which won gold at the Canadian Chamber of Commerce AGM.<br />\n<br />\n
LOCATION:Eaglequest Golf Course 7778 152 St Surrey\, BC
UID:e.749.2580
SEQUENCE:3
DTSTAMP:20260426T011007Z
URL:https://business.swrbot.com/events/details/march-7-2014-fortisbc-pipeline-upgrades-03-07-2014-2580
END:VEVENT

END:VCALENDAR
