BEGIN:VCALENDAR
VERSION:2.0
PRODID:-//ChamberMaster//Event Calendar 2.0//EN
METHOD:PUBLISH
X-PUBLISHED-TTL:P3D
REFRESH-INTERVAL:P3D
CALSCALE:GREGORIAN
BEGIN:VEVENT
DTSTART:20170308T154500Z
DTEND:20170308T180000Z
X-MICROSOFT-CDO-ALLDAYEVENT:FALSE
SUMMARY:March 8\, 2017 - Growth Strategies That Work
DESCRIPTION:Don't forget to bring your laptop or tablet to the workshop!\n\n\n\nBusiness owners looking to grow\, accelerate expansion\, prepare for sale or succession\, and get out from underneath their business are encouraged to come learn about the keys to successfully accomplishing all of these things. For 18 years Wardell International has had an unprecedented track record of helping businesses double or more the value of their business\, and growing businesses from sales in the single-digit millions to double-digit millions\, while at the same time freeing up the business owners' time. At this session\, you will learn about:\n\n\n	Organic Growth\n	Acquisition\n	Licensing and Franchising\n	Partnership\, including Private Equity\n	New Location\n\nThis workshop is facilitated by Wardell International.
X-ALT-DESC;FMTTYPE=text/html:<p><strong>Don&#39\;t forget to bring your laptop or tablet to the workshop!</strong><br />\n<br />\nBusiness owners looking to grow\, accelerate expansion\, prepare for sale or succession\, and get out from underneath their business are encouraged to come learn about the keys to successfully accomplishing all of these things. For 18 years Wardell International has had an unprecedented track record of helping businesses double or more the value of their business\, and growing businesses from sales in the single-digit millions to double-digit millions\, while at the same time freeing up the business owners&rsquo\; time. At this session\, you will learn about:</p>\n\n<ul>\n	<li>Organic Growth</li>\n	<li>Acquisition</li>\n	<li>Licensing and Franchising</li>\n	<li>Partnership\, including Private Equity</li>\n	<li>New Location</li>\n</ul>\n<i><b>This workshop is facilitated by Wardell International. </b></i>
LOCATION:Surrey Board of Trade 101\, 14439 104th Ave\, Surrey
UID:e.749.5223
SEQUENCE:3
DTSTAMP:20260422T035112Z
URL:https://business.swrbot.com/events/details/march-8-2017-growth-strategies-that-work-03-08-2017-5223
END:VEVENT

END:VCALENDAR
