BEGIN:VCALENDAR
VERSION:2.0
PRODID:-//ChamberMaster//Event Calendar 2.0//EN
METHOD:PUBLISH
X-PUBLISHED-TTL:P3D
REFRESH-INTERVAL:P3D
CALSCALE:GREGORIAN
BEGIN:VEVENT
DTSTART:20180308T190000Z
DTEND:20180308T220000Z
X-MICROSOFT-CDO-ALLDAYEVENT:FALSE
SUMMARY:March 8\, 2018 - 9th Annual Surrey Women in Business Awards - SOLD OUT!
DESCRIPTION:Join us for the 9th Annual Surrey Women in Business Awards\, featuring keynote speaker the Right Honourable Kim Campbell who rose to international fame as Canada's first female Prime Minister and one of the youngest Prime Ministers worldwide. Since her time as leader\, she has traveled to represent Canada and strengthen democracy\, security\, and women's leadership around the world.\n\n\n\nTo learn more about Rt. Hon. Kim Campbell\, read her biography here.\n\n\n\nCommodore Marta Mulkins\, Commander of Naval Reserves for the Royal Canadian Navy\, will also join us as our Vignette speaker. Commodore Mulkins is the first woman to command a Maritime Coastal Defence Vessel\, serving as Commanding Officer of HMCS Kingston.\n\n \n\nTamara Taggart of CTV News is the Master of Ceremonies!\n\n\n\nAlso\, the six Surrey Women in Business winners will be presented at this celebratory lunch event.
X-ALT-DESC;FMTTYPE=text/html:<p><span style="font-size:14px\;"><span style="font-family: arial\;">J</span></span>oin us for the 9th Annual Surrey Women in Business Awards\, <strong>featuring keynote speaker the Right Honourable Kim Campbell</strong> who rose to international fame as Canada&rsquo\;s first female Prime Minister and one of the youngest Prime Ministers worldwide. Since her time as leader\, she has traveled to represent Canada and strengthen democracy\, security\, and women&rsquo\;s leadership around the world.<br />\n<br />\nTo learn more about Rt. Hon. Kim Campbell\, read her biography <a href="https://www.nsb.com/speakers/kim-campbell/">here</a>.<br />\n<br />\n<span style="color: rgb(34\, 34\, 34)\; font-size: 12px\; background-color: rgb(255\, 255\, 255)\;"><b>Commodore Marta&nbsp\;Mulkins\,&nbsp\;</b>Commander of Naval Reserves for the Royal Canadian Navy\, will also join us as our Vignette speaker. Commodore&nbsp\;Mulkins&nbsp\;is the&nbsp\;</span><span style="color: rgb(34\, 34\, 34)\; font-size: 12px\; background-color: rgb(255\, 255\, 255)\;">first woman to command a Maritime Coastal&nbsp\;Defence&nbsp\;Vessel\, serving as Commanding Officer of&nbsp\;HMCS&nbsp\;</span><span style="color: rgb(51\, 51\, 51)\; font-size: 12px\; background-color: rgb(255\, 255\, 255)\; font-family: &quot\;Helvetica Neue&quot\;\;">Kingston</span><span style="color: rgb(34\, 34\, 34)\; font-size: 12px\; background-color: rgb(255\, 255\, 255)\;">.</span><br style="color: rgb(34\, 34\, 34)\; font-family: arial\; font-size: 12px\; background-color: rgb(255\, 255\, 255)\;" />\n<span style="color: rgb(34\, 34\, 34)\; font-size: 12px\; background-color: rgb(255\, 255\, 255)\;"><span style="background-image: none\; background-position: 0% 0%\; background-size: initial\; background-repeat: repeat\; background-attachment: scroll\; background-origin: initial\; background-clip: initial\;">&nbsp\;<br />\n<b>Tamara Taggart o</b>f&nbsp\;CTV&nbsp\;News is the Master of Ceremonies!</span></span><br />\n<br />\n<span style="font-family: sans-serif\, Arial\, Verdana\, &quot\;Trebuchet MS&quot\;\; background-color: rgb(255\, 255\, 255)\;"><font color="#333333">Also\, the six Surrey Women in Business winners will be presented at this celebratory lunch event.</font></span></p>\n
LOCATION:Sheraton Vancouver Guildford Hotel 15269 104 Avenue\, Surrey
UID:e.749.5475
SEQUENCE:3
DTSTAMP:20260421T141756Z
URL:https://business.swrbot.com/events/details/march-8-2018-9th-annual-surrey-women-in-business-awards-sold-out-03-08-2018-5475
END:VEVENT

END:VCALENDAR
