BEGIN:VCALENDAR
VERSION:2.0
PRODID:-//ChamberMaster//Event Calendar 2.0//EN
METHOD:PUBLISH
X-PUBLISHED-TTL:P3D
REFRESH-INTERVAL:P3D
CALSCALE:GREGORIAN
BEGIN:VEVENT
DTSTART:20150309T230000Z
DTEND:20150310T003000Z
X-MICROSOFT-CDO-ALLDAYEVENT:FALSE
SUMMARY:March 9\, 2015 - Surrey Transportation Town Hall Forum
DESCRIPTION:SURREY TRANSPORTATION TOWN HALL FORUMS\n\n\n\nOrganized by the Surrey Board of Trade VOTING YES FOR TRANSPORTATION IMPROVEMENTS IN SURREY TO SUPPORT SURREY'S ECONOMY
X-ALT-DESC;FMTTYPE=text/html:SURREY TRANSPORTATION TOWN HALL FORUMS<br />\n<br />\nOrganized by the Surrey Board of Trade VOTING YES FOR TRANSPORTATION IMPROVEMENTS IN SURREY TO SUPPORT SURREY&rsquo\;S ECONOMY
LOCATION:Surrey Board of Trade Conference Room 101 - 14439 104 Ave Surrey\, BC
UID:e.749.3316
SEQUENCE:3
DTSTAMP:20260423T104003Z
URL:https://business.swrbot.com/events/details/march-9-2015-surrey-transportation-town-hall-forum-03-09-2015-3316
END:VEVENT

END:VCALENDAR
