BEGIN:VCALENDAR
VERSION:2.0
PRODID:-//ChamberMaster//Event Calendar 2.0//EN
METHOD:PUBLISH
X-PUBLISHED-TTL:P3D
REFRESH-INTERVAL:P3D
CALSCALE:GREGORIAN
BEGIN:VEVENT
DTSTART:20140711T013000Z
DTEND:20140711T040000Z
X-MICROSOFT-CDO-ALLDAYEVENT:FALSE
SUMMARY:Master Your Business for Maximum Profit and Success!
DESCRIPTION:Join 70+ entrepreneurs at a unique and complimentary networking and business education event on July 10th at Sheraton Guildford Hotel  Doors open at 6:30pm for networking and the seminar is 7pm to 9pm.\n\nAmazon Best Selling author and business trainer\, Colin Sprake\, will assist you to "Master Your Business for Maximum Profit and Success!" The evening is filled with 5 solid business tools that you can use immediately in growing your business and attracting more profitable clients! As usual\, Colin will have an "Outrageous Offer" for all in attendance!\n\nClick on the link below and enter the access code (101) to meet Colin via video and get the details.\n\nwww.KnowledgeActionProfit.com\n\nThis event is regularly $149 but will be complementary for you through the event code provided!
X-ALT-DESC;FMTTYPE=text/html:<p>Join 70+ entrepreneurs at a unique and&nbsp\;<strong><em>complimentary</em></strong>&nbsp\;networking and business education event on <em>July 10th at Sheraton Guildford Hotel&nbsp\;</em> Doors open at 6:30pm for networking and the seminar is 7pm to 9pm.</p>\n\n<p>Amazon Best Selling author and business trainer\, Colin Sprake\, will assist you to&nbsp\;<strong>&ldquo\;Master Your Business for Maximum Profit and Success!&rdquo\;</strong>&nbsp\;The evening is filled with&nbsp\;<strong>5 solid business tools</strong>&nbsp\;that you can use immediately in growing your business and&nbsp\;<strong>attracting more profitable clients!&nbsp\;</strong>As usual\, Colin will have an &ldquo\;Outrageous Offer&rdquo\; for all in attendance!</p>\n\n<p>Click on the link below and enter the access code&nbsp\;<em>(101)</em>&nbsp\;to meet Colin via video and get the details.</p>\n\n<p><a href="http://www.knowledgeactionprofit.com/" target="_blank">www.KnowledgeActionProfit.com</a></p>\n\n<p>This event is regularly $149 but will be complementary for you through the event code provided!</p>\n
LOCATION:Sheraton Vancouver Guildford Hotel 15269 104th Ave\, Surrey\, BC V3R 1N5
UID:e.749.2687
SEQUENCE:3
DTSTAMP:20260425T201448Z
URL:https://business.swrbot.com/events/details/master-your-business-for-maximum-profit-and-success-07-10-2014-2687
END:VEVENT

END:VCALENDAR
