BEGIN:VCALENDAR
VERSION:2.0
PRODID:-//ChamberMaster//Event Calendar 2.0//EN
METHOD:PUBLISH
X-PUBLISHED-TTL:P3D
REFRESH-INTERVAL:P3D
CALSCALE:GREGORIAN
BEGIN:VEVENT
DTSTART:20170331T190000Z
DTEND:20170407T210000Z
X-MICROSOFT-CDO-ALLDAYEVENT:FALSE
SUMMARY:Mastering Your Business for Maximum PROFIT & SUCCESS!
DESCRIPTION:Business Growth Expert\, Colin Sprake will be presenting an event on MASTERING YOUR BUSINESS FOR MAXIMUM PROFIT & SUCCESS.\nAre you wanting to take your Business to the Next Level?\n\nCome out to this Business event where you can meet potential clients and learn how to take your business to the next level.\n\nCome hear from a 4-time Best Seller\, International Speaker/Educator\, member of the TLC (transformational Leadership Counsel) with founder Jack Canfield (Chicken Soup for the Soul Series)\n\nWhat will you receive by attending? You will receive Tips and strategies that you will be able to implement into your business immediately!\n\nColin is all about the business owners like you in our communities to be successful. The value of this event is $149.00 however for a short time you can attend at no cost... a GIFT from Colin Sprake.\n\nRegister NOW!
X-ALT-DESC;FMTTYPE=text/html:<span style="font-family:arial\,sans-serif"><span style="font-size:10pt"><strong>Business Growth Expert\, Colin Sprake will be presenting an event on MASTERING YOUR BUSINESS FOR MAXIMUM PROFIT &amp\; SUCCESS.</strong></span></span>\n<p>Are you wanting to take your Business to the Next Level?</p>\n\n<p>Come out to this Business event where you can meet potential clients and learn how to take your business to the next level.</p>\n\n<p>Come hear from a 4-time Best Seller\, International Speaker/Educator\, member of the TLC (transformational Leadership Counsel) with founder Jack Canfield (Chicken Soup for the Soul Series)</p>\n\n<p>What will you receive by attending? You will receive Tips and strategies that you will be able to implement into your business immediately!</p>\n\n<p>Colin is all about the business owners like you in our communities to be successful. The value of this event is $149.00 however for a short time you can attend at no cost... a GIFT from Colin Sprake.</p>\n\n<p>Register NOW!</p>\n<br />\n<br />\n<br />\n&nbsp\;
LOCATION:Hilton Vancouver Metrotown 6083 McKay Ave\, Burnaby\, BC V5H 2W7 (604) 438-1200
UID:e.749.5163
SEQUENCE:3
DTSTAMP:20260422T024212Z
URL:https://business.swrbot.com/events/details/mastering-your-business-for-maximum-profit-success-03-31-2017-5163
END:VEVENT

END:VCALENDAR
