BEGIN:VCALENDAR
VERSION:2.0
PRODID:-//ChamberMaster//Event Calendar 2.0//EN
METHOD:PUBLISH
X-PUBLISHED-TTL:P3D
REFRESH-INTERVAL:P3D
CALSCALE:GREGORIAN
BEGIN:VEVENT
DTSTART:20140417T020000Z
DTEND:20140417T040000Z
X-MICROSOFT-CDO-ALLDAYEVENT:FALSE
SUMMARY:Mastering Your Business for Maximum PROFIT & SUCCESS
DESCRIPTION:Business Growth Expert\, Colin Sprake will be presenting an event on \n\nMASTERING YOUR BUSINESS FOR MAXIMUM PROFIT & SUCCESS.\n\nColin is extremely well known in the valley\, an active member in the Surrey Board of Trade and has helped 1\,000s of businesses achieve incredible success over the past 10 years.\n\n\n\nColin will be speaking to business owners like you and teach about Business Mindset\, Sales & Marketing tips and strategies.\n\nYou will definately walk away with education that you will be able to immplement into your business immediately.\n\nWell worth your time to attend!
X-ALT-DESC;FMTTYPE=text/html:<p class="MsoNormal" style="mso-margin-top-alt:auto\;mso-margin-bottom-alt:auto"><span style="font-size:12.0pt\;font-family:&quot\;Times New Roman&quot\;\,&quot\;serif&quot\;\;mso-fareast-language:\nEN-CA">Business Growth Expert<span style="color:#1F497D">\,</span> Colin Sprake will be presenting an event on </span></p>\n\n<p class="MsoNormal" style="mso-margin-top-alt:auto\;mso-margin-bottom-alt:auto"><b><span style="font-size:12.0pt\;font-family:&quot\;Times New Roman&quot\;\,&quot\;serif&quot\;\;color:#0070C0\;\nmso-fareast-language:EN-CA">MASTERING YOUR BUSINESS FOR MAXIMUM PROFIT &amp\; SUCCESS.</span></b></p>\n\n<p class="MsoNormal" style="mso-margin-top-alt:auto\;mso-margin-bottom-alt:auto"><span style="font-size:12.0pt\;font-family:&quot\;Times New Roman&quot\;\,&quot\;serif&quot\;\;mso-fareast-language:\nEN-CA">Colin is extremely well known in the valley\, an active member in the Surrey Board of Trade and has helped 1\,000s of businesses achieve incredible success over the past 10 years.<br />\n<br />\nColin will be speaking to business owners like you and teach about Business Mindset\, Sales &amp\; Marketing tips and strategies.<br />\nYou will definately walk away with education that you will be able to immplement into your business immediately.<br />\nWell worth your time to attend!</span></p>\n
LOCATION:Holiday Inn\, Metrotown\, Burnaby
UID:e.749.2498
SEQUENCE:3
DTSTAMP:20260425T224959Z
URL:https://business.swrbot.com/events/details/mastering-your-business-for-maximum-profit-success-04-16-2014-2498
END:VEVENT

END:VCALENDAR
