BEGIN:VCALENDAR
VERSION:2.0
PRODID:-//ChamberMaster//Event Calendar 2.0//EN
METHOD:PUBLISH
X-PUBLISHED-TTL:P3D
REFRESH-INTERVAL:P3D
CALSCALE:GREGORIAN
BEGIN:VEVENT
DTSTART:20171207T200000Z
DTEND:20171207T220000Z
X-MICROSOFT-CDO-ALLDAYEVENT:FALSE
SUMMARY:Mastering Your Business For Maximum Profit & Success
DESCRIPTION:The Event will be on Thursday\, December 7\, 2017 from 12:00 - 2:00 pm. Venue TBA (within lowermainland)\n\n\n\n94% of business owners fail in their first 2 years and this does not have to be the case! The failure rate for businesses is high because people generally don't get the training or education they need\, prior to starting a business\, to understand how to generate leads\, make sales\, build a thriving team\, and manage their money properly so that they generate a profit and ultimately succeed.\n\n\n\nMake Your Mark Training and Consulting (www.mymsuccess.com) is providing COMPLIMENTARY tickets for a small number of guests to attend a two hour seminar completely FREE.\n\n\n\nSome things you may learn:\n\n-Personal Growth\n\n-Success Habits\n\n-Marketing & Sales\n\n-Innovation\n\n-Systems\n\n-Accurate thinking\n\n-Many other great topics\n\n\n\nIf you'd like to register for free:\n\nOption 1) Call our office at 778-565-4090 or toll free at 1-844-560-5609 quoting Success #5044 (Surrey Board of Trade)\n\n\n\nOption 2) Register through www.knowledgeactionprofit.com with ticket activation code 5044 (Surrey Board of Trade)\n\n\n\nThank you\, and hope you can attend!
X-ALT-DESC;FMTTYPE=text/html:The Event will be on Thursday\, <span style="color:#FF0000"><strong>December 7\, 2017</strong></span> from 12:00 - 2:00 pm. Venue TBA (within lowermainland)<br />\n<br />\n94% of business owners fail in their first 2 years and this does not have to be the case! The failure rate for businesses is high because people generally don&#39\;t get the training or education they need\, prior to starting a business\, to understand how to generate leads\, make sales\, build a thriving team\, and manage their money properly so that they generate a profit and ultimately succeed.<br />\n<br />\nMake Your Mark Training and Consulting (www.mymsuccess.com) is providing <span style="color:#FF0000"><strong>COMPLIMENTARY</strong></span> tickets for a small number of guests to attend a two hour seminar completely FREE.<br />\n<br />\nSome things you may learn:<br />\n-Personal Growth<br />\n-Success Habits<br />\n-Marketing &amp\; Sales<br />\n-Innovation<br />\n-Systems<br />\n-Accurate thinking<br />\n-Many other great topics<br />\n<br />\n<span style="color:#FF0000">If you&#39\;d like to register for free:</span><br />\nOption 1) Call our office at 778-565-4090 or toll free at 1-844-560-5609 quoting <strong>Success #5044</strong> (Surrey Board of Trade)<br />\n<br />\nOption 2) Register through www.knowledgeactionprofit.com with ticket activation code <strong>5044 </strong>(Surrey Board of Trade)<br />\n<br />\nThank you\, and hope you can attend!
LOCATION:To be Announced
UID:e.749.5544
SEQUENCE:3
DTSTAMP:20260421T164523Z
URL:https://business.swrbot.com/events/details/mastering-your-business-for-maximum-profit-success-12-07-2017-5544
END:VEVENT

END:VCALENDAR
