BEGIN:VCALENDAR
VERSION:2.0
PRODID:-//ChamberMaster//Event Calendar 2.0//EN
METHOD:PUBLISH
X-PUBLISHED-TTL:P3D
REFRESH-INTERVAL:P3D
CALSCALE:GREGORIAN
BEGIN:VEVENT
DTSTART:20170621T223000Z
DTEND:20170622T000000Z
X-MICROSOFT-CDO-ALLDAYEVENT:FALSE
SUMMARY:Maximize The Value of Your Business
DESCRIPTION:Join us for a wine and cheese presentation and hear Tony Malyk of Empowered Business Coaching share 7 keys to increasing the value\, profitability and manageability of your business. Ensure your business is thriving today and is ready to pass on to the next generation or an outside buyer at the highest possible price in the future. 3:30 - 4:00PM: Wine and cheese 4:00 - 5:00PM: Presentation and Q&A
X-ALT-DESC;FMTTYPE=text/html:Join us for a wine and cheese presentation and hear Tony Malyk of Empowered Business Coaching share 7 keys to increasing the value\, profitability and manageability of your business. Ensure your business is thriving today and is ready to pass on to the next generation or an outside buyer at the highest possible price in the future. 3:30 - 4:00PM: Wine and cheese 4:00 - 5:00PM: Presentation and Q&amp\;A
LOCATION:8621 201 St Deloitte Building\, Ground Floor Boardroom Langley\, BC V2Y 0G9
UID:e.749.5360
SEQUENCE:3
DTSTAMP:20260422T001250Z
URL:https://business.swrbot.com/events/details/maximize-the-value-of-your-business-06-21-2017-5360
END:VEVENT

END:VCALENDAR
